Workbook

Sheet Endeksler
A1: Aylar | B1: 4/a | C1: 4/a_endeks | D1: 4/b Esnaf | E1: Esnaf (4/b) Endeks | F1: 4/b Tarım | G1: 4/b_Tarım_endeks | H1: 4/c | I1: 4/c_endeks
A2: 39722 | B2: 9119936 | C2: =(B2/$B$2)*100 -> 100 | D2: 1910373 | E2: =(D2/$D$2)*100 -> 100 | F2: 1137405 | G2: =(F2/$F$2)*100 -> 100 | H2: 2187772 | I2: =(H2/$H$2)*100 -> 100
A3: 39753 | B3: 9022823 | C3: =(B3/$B$2)*100 -> 98.935157 | D3: 1911654 | E3: =(D3/$D$2)*100 -> 100.06705 | F3: 1140518 | G3: =(F3/$F$2)*100 -> 100.27369 | H3: 2199425 | I3: =(H3/$H$2)*100 -> 100.53264
A4: 39783 | B4: 8802989 | C4: =(B4/$B$2)*100 -> 96.52468 | D4: 1897864 | E4: =(D4/$D$2)*100 -> 99.345206 | F4: 1141467 | G4: =(F4/$F$2)*100 -> 100.35713 | H4: 2205676 | I4: =(H4/$H$2)*100 -> 100.81837
A5: 39814 | B5: 8481011 | C5: =(B5/$B$2)*100 -> 92.994194 | D5: 1912296 | E5: =(D5/$D$2)*100 -> 100.10066 | F5: 1144082 | G5: =(F5/$F$2)*100 -> 100.58704 | H5: 2208984 | I5: =(H5/$H$2)*100 -> 100.96957
A6: 39845 | B6: 8362290 | C6: =(B6/$B$2)*100 -> 91.69242 | D6: 1918636 | E6: =(D6/$D$2)*100 -> 100.43253 | F6: 1146634 | G6: =(F6/$F$2)*100 -> 100.81141 | H6: 2213460 | I6: =(H6/$H$2)*100 -> 101.17416
A7: 39873 | B7: 8410234 | C7: =(B7/$B$2)*100 -> 92.218125 | D7: 1916016 | E7: =(D7/$D$2)*100 -> 100.29539 | F7: 1150295 | G7: =(F7/$F$2)*100 -> 101.13328 | H7: 2279020 | I7: =(H7/$H$2)*100 -> 104.17082
A8: 39904 | B8: 8503053 | C8: =(B8/$B$2)*100 -> 93.235885 | D8: 1931510 | E8: =(D8/$D$2)*100 -> 101.10643 | F8: 1149546 | G8: =(F8/$F$2)*100 -> 101.06743 | H8: 2271908 | I8: =(H8/$H$2)*100 -> 103.84574
A9: 39934 | B9: 8674726 | C9: =(B9/$B$2)*100 -> 95.118277 | D9: 1945342 | E9: =(D9/$D$2)*100 -> 101.83048 | F9: 1153672 | G9: =(F9/$F$2)*100 -> 101.43019 | H9: 2270276 | I9: =(H9/$H$2)*100 -> 103.77114
A10: 39965 | B10: 8922743 | C10: =(B10/$B$2)*100 -> 97.837781 | D10: 1894680 | E10: =(D10/$D$2)*100 -> 99.178537 | F10: 1158562 | G10: =(F10/$F$2)*100 -> 101.86011 | H10: 2271485 | I10: =(H10/$H$2)*100 -> 103.8264
A11: 39995 | B11: 9013349 | C11: =(B11/$B$2)*100 -> 98.831275 | D11: 1830370 | E11: =(D11/$D$2)*100 -> 95.812179 | F11: 1049015 | G11: =(F11/$F$2)*100 -> 92.228802 | H11: 2260614 | I11: =(H11/$H$2)*100 -> 103.32951
A12: 40026 | B12: 8977653 | C12: =(B12/$B$2)*100 -> 98.439868 | D12: 1786003 | E12: =(D12/$D$2)*100 -> 93.489753 | F12: 1053385 | G12: =(F12/$F$2)*100 -> 92.613009 | H12: 2248048 | I12: =(H12/$H$2)*100 -> 102.75513
A13: 40057 | B13: 8950211 | C13: =(B13/$B$2)*100 -> 98.138967 | D13: 1820914 | E13: =(D13/$D$2)*100 -> 95.317197 | F13: 1059182 | G13: =(F13/$F$2)*100 -> 93.122678 | H13: 2262750 | I13: =(H13/$H$2)*100 -> 103.42714
... A91: 42430 | B91: 13866804 | C91: =(B91/$B$2)*100 -> 152.04936 | D91: 1935899 | E91: =(D91/$D$2)*100 -> 101.33618 | F91: 748079 | G91: =(F91/$F$2)*100 -> 65.77068 | H91: 3068719 | I91: =(H91/$H$2)*100 -> 140.26686

Sheet 4a_Sektör
A1: FAALİYET KODU | B1: FAALİYET GRUPLARI | C1: 42064 | D1: 42401 | E1: 42430 | F1: Sektörün payı (Mart 2016) | G1: Çalışan Sayısında Değişim (Mart 2016 - Mart 2015) | H1: Çalışan Sayısındaki Fark (Mart 2016 - Mart 2015) | I1: Artışta Sektörün Payı (%) (Mart 2016) | J1: Çalışan Sayısındaki Fark (Mart 2016 - Şubat 2016)
A2: 1 | B2: BİTKİSEL VE HAYVANSAL ÜRETİM | C2: 103566 | D2: 105839 | E2: 107044 | F2: =E2/$E$90 -> 0.0077194428 | G2: =(E2-C2)/C2 -> 0.03358245 | H2: =E2-C2 -> 3478 | I2: =H2/$H$90 -> 0.0064565713 | J2: =E2-D2 -> 1205
A3: 2 | B3: ORMANCILIK VE TOMRUKÇULUK | C3: 33636 | D3: 38469 | E3: 35415 | F3: =E3/$E$90 -> 0.0025539411 | G3: =(E3-C3)/C3 -> 0.052889761 | H3: =E3-C3 -> 1779 | I3: =H3/$H$90 -> 0.0033025418 | J3: =E3-D3 -> -3054
A4: 3 | B4: BALIKÇILIK VE SU ÜRÜNLERİ YETİŞ. | C4: 7512 | D4: 7932 | E4: 7829 | F4: =E4/$E$90 -> 0.00056458575 | G4: =(E4-C4)/C4 -> 0.042199148 | H4: =E4-C4 -> 317 | I4: =H4/$H$90 -> 0.0005884799 | J4: =E4-D4 -> -103
A5: 5 | B5: KÖMÜR VE LİNYİT ÇIKARTILMASI | C5: 40237 | D5: 30715 | E5: 38653 | F5: =E5/$E$90 -> 0.0027874484 | G5: =(E5-C5)/C5 -> -0.039366752 | H5: =E5-C5 -> -1584 | I5: =H5/$H$90 -> -0.0029405431 | J5: =E5-D5 -> 7938
A6: 6 | B6: HAM PETROL VE DOĞALGAZ ÇIKARIMI | C6: 3170 | D6: 2122 | E6: 2793 | F6: =E6/$E$90 -> 0.00020141627 | G6: =(E6-C6)/C6 -> -0.11892744 | H6: =E6-C6 -> -377 | I6: =H6/$H$90 -> -0.00069986411 | J6: =E6-D6 -> 671
A7: 7 | B7: METAL CEVHERİ MADENCİLİĞİ | C7: 22678 | D7: 20272 | E7: 20332 | F7: =E7/$E$90 -> 0.0014662355 | G7: =(E7-C7)/C7 -> -0.10344828 | H7: =E7-C7 -> -2346 | I7: =H7/$H$90 -> -0.0043551226 | J7: =E7-D7 -> 60
A8: 8 | B8: DİĞER MADENCİLİK VE TAŞ ŞubatÇILIĞI | C8: 57013 | D8: 55958 | E8: 60761 | F8: =E8/$E$90 -> 0.0043817595 | G8: =(E8-C8)/C8 -> 0.065739393 | H8: =E8-C8 -> 3748 | I8: =H8/$H$90 -> 0.0069578002 | J8: =E8-D8 -> 4803
A9: 9 | B9: MADENCİLİĞİ DESTEKLEYİCİ HİZMET | C9: 6565 | D9: 5054 | E9: 5456 | F9: =E9/$E$90 -> 0.00039345764 | G9: =(E9-C9)/C9 -> -0.16892612 | H9: =E9-C9 -> -1109 | I9: =H9/$H$90 -> -0.0020587515 | J9: =E9-D9 -> 402
A10: 10 | B10: GIDA ÜRÜNLERİ İMALATI | C10: 425674 | D10: 429851 | E10: 429212 | F10: =E10/$E$90 -> 0.030952482 | G10: =(E10-C10)/C10 -> 0.0083115248 | H10: =E10-C10 -> 3538 | I10: =H10/$H$90 -> 0.0065679555 | J10: =E10-D10 -> -639
A11: 11 | B11: İÇECEK İMALATI | C11: 14761 | D11: 14664 | E11: 14873 | F11: =E11/$E$90 -> 0.0010725615 | G11: =(E11-C11)/C11 -> 0.0075875618 | H11: =E11-C11 -> 112 | I11: =H11/$H$90 -> 0.00020791719 | J11: =E11-D11 -> 209
A12: 12 | B12: TÜTÜN ÜRÜNLERİ İMALATI | C12: 4173 | D12: 3964 | E12: 4298 | F12: =E12/$E$90 -> 0.00030994885 | G12: =(E12-C12)/C12 -> 0.029954469 | H12: =E12-C12 -> 125 | I12: =H12/$H$90 -> 0.00023205043 | J12: =E12-D12 -> 334
A13: 13 | B13: TEKSTİL ÜRÜNLERİ İMALATI | C13: 431550 | D13: 414734 | E13: 415204 | F13: =E13/$E$90 -> 0.0299423 | G13: =(E13-C13)/C13 -> -0.037877419 | H13: =E13-C13 -> -16346 | I13: =H13/$H$90 -> -0.030344771 | J13: =E13-D13 -> 470
... A89: 99 | B89: ULUSLARARASI ÖRGÜT VE TEMS.FA. | C89: 3923 | D89: 4263 | E89: 4265 | F89: =E89/$E$90 -> 0.00030756907 | G89: =(E89-C89)/C89 -> 0.08717818 | H89: =E89-C89 -> 342 | I89: =H89/$H$90 -> 0.00063488999 | J89: =E89-D89 -> 2
A90: T O P L A M | C90: 13328128 | D90: 13575109 | E90: 13866804 | F90: =E90/$E$90 -> 1 | G90: =(E90-C90)/C90 -> 0.040416479 | H90: =E90-C90 -> 538676 | I90: =H90/$H$90 -> 1 | J90: =E90-D90 -> 291695

Sheet 4a_İmalat_Sektör
A1: FAALİYET KODU | B1: FAALİYET GRUPLARI | C1: 42064 | D1: 42401 | E1: 42430 | F1: Sektörün payı (Mart 2016) | G1: Çalışan Sayısında Değişim (Mart 2016 - Mart 2015) | H1: Çalışan Sayısındaki Fark (Mart 2016 - Mart 2015) | I1: Artışta Sektörün Payı (%) (Mart 2016) | J1: Çalışan Sayısındaki Fark (Mart 2016 - Şubat 2016)
A2: 10 | B2: GIDA ÜRÜNLERİ İMALATI | C2: 425674 | D2: 429851 | E2: 429212 | F2: =E2/$E$26 -> 0.12123492 | G2: =(E2-C2)/C2 -> 0.0083115248 | H2: =E2-C2 -> 3538 | I2: =H2/$H$26 -> -0.22592593 | J2: =E2-D2 -> -639
A3: 11 | B3: İÇECEK İMALATI | C3: 14761 | D3: 14664 | E3: 14873 | F3: =E3/$E$26 -> 0.0042010172 | G3: =(E3-C3)/C3 -> 0.0075875618 | H3: =E3-C3 -> 112 | I3: =H3/$H$26 -> -0.0071519796 | J3: =E3-D3 -> 209
A4: 12 | B4: TÜTÜN ÜRÜNLERİ İMALATI | C4: 4173 | D4: 3964 | E4: 4298 | F4: =E4/$E$26 -> 0.0012140101 | G4: =(E4-C4)/C4 -> 0.029954469 | H4: =E4-C4 -> 125 | I4: =H4/$H$26 -> -0.0079821201 | J4: =E4-D4 -> 334
A5: 13 | B5: TEKSTİL ÜRÜNLERİ İMALATI | C5: 431550 | D5: 414734 | E5: 415204 | F5: =E5/$E$26 -> 0.11727823 | G5: =(E5-C5)/C5 -> -0.037877419 | H5: =E5-C5 -> -16346 | I5: =H5/$H$26 -> 1.0438059 | J5: =E5-D5 -> 470
A6: 14 | B6: GİYİM EŞYALARI İMALATI | C6: 492850 | D6: 477097 | E6: 477910 | F6: =E6/$E$26 -> 0.13499013 | G6: =(E6-C6)/C6 -> -0.030313483 | H6: =E6-C6 -> -14940 | I6: =H6/$H$26 -> 0.95402299 | J6: =E6-D6 -> 813
A7: 15 | B7: DERİ VE İLGİLİ ÜRÜNLER İMALATI | C7: 62974 | D7: 60909 | E7: 61362 | F7: =E7/$E$26 -> 0.017332268 | G7: =(E7-C7)/C7 -> -0.025597866 | H7: =E7-C7 -> -1612 | I7: =H7/$H$26 -> 0.10293742 | J7: =E7-D7 -> 453
A8: 16 | B8: AĞAÇ,AĞAÇ ÜRÜNLERİ VE MANTAR ÜR. | C8: 70034 | D8: 65844 | E8: 65835 | F8: =E8/$E$26 -> 0.018595708 | G8: =(E8-C8)/C8 -> -0.059956593 | H8: =E8-C8 -> -4199 | I8: =H8/$H$26 -> 0.26813538 | J8: =E8-D8 -> -9
A9: 17 | B9: KAĞIT VE KAĞIT ÜRÜNLERİ İMALATI | C9: 51548 | D9: 51564 | E9: 52354 | F9: =E9/$E$26 -> 0.014787874 | G9: =(E9-C9)/C9 -> 0.015635912 | H9: =E9-C9 -> 806 | I9: =H9/$H$26 -> -0.05146871 | J9: =E9-D9 -> 790
A10: 18 | B10: KAYITLI MEDYANIN BASILMASI VE ÇOĞ. | C10: 63500 | D10: 57227 | E10: 56825 | F10: =E10/$E$26 -> 0.01605075 | G10: =(E10-C10)/C10 -> -0.10511811 | H10: =E10-C10 -> -6675 | I10: =H10/$H$26 -> 0.42624521 | J10: =E10-D10 -> -402
A11: 19 | B11: KOK KÖMÜRÜ VE PETROL ÜRÜNLERİ İM. | C11: 7956 | D11: 7951 | E11: 7929 | F11: =E11/$E$26 -> 0.0022396198 | G11: =(E11-C11)/C11 -> -0.0033936652 | H11: =E11-C11 -> -27 | I11: =H11/$H$26 -> 0.0017241379 | J11: =E11-D11 -> -22
A12: 20 | B12: KİMYASAL ÜRÜNLERİ İMALATI | C12: 73582 | D12: 73674 | E12: 74975 | F12: =E12/$E$26 -> 0.021177386 | G12: =(E12-C12)/C12 -> 0.01893126 | H12: =E12-C12 -> 1393 | I12: =H12/$H$26 -> -0.088952746 | J12: =E12-D12 -> 1301
A13: 21 | B13: ECZACILIK VE ECZ.İLİŞKİN MALZ.İMAL. | C13: 18934 | D13: 20348 | E13: 20502 | F13: =E13/$E$26 -> 0.0057909807 | G13: =(E13-C13)/C13 -> 0.082813985 | H13: =E13-C13 -> 1568 | I13: =H13/$H$26 -> -0.10012771 | J13: =E13-D13 -> 154
... A25: 33 | B25: MAKİNE VE EKİPMAN.KURULUMU VE ONAR. | C25: 166015 | D25: 159983 | E25: 160742 | F25: =E25/$E$26 -> 0.045403074 | G25: =(E25-C25)/C25 -> -0.03176219 | H25: =E25-C25 -> -5273 | I25: =H25/$H$26 -> 0.33671775 | J25: =E25-D25 -> 759
A26: İMALAT T O P L A M | C26: 3555993 | D26: 3526049 | E26: 3540333 | F26: =E26/$E$26 -> 1 | G26: =(E26-C26)/C26 -> -0.0044038332 | H26: =E26-C26 -> -15660 | I26: =H26/$H$26 -> 1 | J26: =E26-D26 -> 14284

Sheet 4a_İşyeri_Sektör
A1: FAALİYET KODU | B1: FAALİYET GRUPLARI | C1: 42064 | D1: 42401 | E1: 42430 | F1: Sektörün payı (Mart 2016) | G1: İşyeri Sayısında Değişim (Mart 2016 - Mart 2015) | H1: İşyeri Sayısındaki Fark (Mart 2016 - Mart 2015) | I1: Artışta Sektörün Payı (%) (Mart 2016) | J1: İşyeri Sayısındaki Fark (Mart 2016 - Şubat 2016)
A2: 1 | B2: BİTKİSEL VE HAYVANSAL ÜRETİM | C2: 15249 | D2: 16184 | E2: 16342 | F2: =E2/$E$90 -> 0.0094800971 | G2: =(E2-C2)/C2 -> 0.071676831 | H2: =E2-C2 -> 1093 | I2: =H2/$H$90 -> 0.029155997 | J2: =E2-D2 -> 158
A3: 2 | B3: ORMANCILIK VE TOMRUKÇULUK | C3: 2480 | D3: 2620 | E3: 2659 | F3: =E3/$E$90 -> 0.0015425026 | G3: =(E3-C3)/C3 -> 0.072177419 | H3: =E3-C3 -> 179 | I3: =H3/$H$90 -> 0.0047748613 | J3: =E3-D3 -> 39
A4: 3 | B4: BALIKÇILIK VE SU ÜRÜNLERİ YETİŞ. | C4: 1152 | D4: 1165 | E4: 1161 | F4: =E4/$E$90 -> 0.00067350341 | G4: =(E4-C4)/C4 -> 0.0078125 | H4: =E4-C4 -> 9 | I4: =H4/$H$90 -> 0.00024007682 | J4: =E4-D4 -> -4
A5: 5 | B5: KÖMÜR VE LİNYİT ÇIKARTILMASI | C5: 690 | D5: 608 | E5: 608 | F5: =E5/$E$90 -> 0.00035270463 | G5: =(E5-C5)/C5 -> -0.11884058 | H5: =E5-C5 -> -82 | I5: =H5/$H$90 -> -0.0021873666 | J5: =E5-D5 -> 0
A6: 6 | B6: HAM PETROL VE DOĞALGAZ ÇIKARIMI | C6: 50 | D6: 40 | E6: 47 | F6: =E6/$E$90 -> 2.7264996e-05 | G6: =(E6-C6)/C6 -> -0.06 | H6: =E6-C6 -> -3 | I6: =H6/$H$90 -> -8.0025608e-05 | J6: =E6-D6 -> 7
A7: 7 | B7: METAL CEVHERİ MADENCİLİĞİ | C7: 890 | D7: 859 | E7: 862 | F7: =E7/$E$90 -> 0.00050005163 | G7: =(E7-C7)/C7 -> -0.031460674 | H7: =E7-C7 -> -28 | I7: =H7/$H$90 -> -0.00074690568 | J7: =E7-D7 -> 3
A8: 8 | B8: DİĞER MADENCİLİK VE TAŞ ŞubatÇILIĞI | C8: 4491 | D8: 4544 | E8: 4592 | F8: =E8/$E$90 -> 0.0026638481 | G8: =(E8-C8)/C8 -> 0.022489423 | H8: =E8-C8 -> 101 | I8: =H8/$H$90 -> 0.0026941955 | J8: =E8-D8 -> 48
A9: 9 | B9: MADENCİLİĞİ DESTEKLEYİCİ HİZMET | C9: 447 | D9: 430 | E9: 447 | F9: =E9/$E$90 -> 0.00025930752 | G9: =(E9-C9)/C9 -> 0 | H9: =E9-C9 -> 0 | I9: =H9/$H$90 -> 0 | J9: =E9-D9 -> 17
A10: 10 | B10: GIDA ÜRÜNLERİ İMALATI | C10: 41441 | D10: 41532 | E10: 41556 | F10: =E10/$E$90 -> 0.024106897 | G10: =(E10-C10)/C10 -> 0.0027750296 | H10: =E10-C10 -> 115 | I10: =H10/$H$90 -> 0.0030676483 | J10: =E10-D10 -> 24
A11: 11 | B11: İÇECEK İMALATI | C11: 633 | D11: 648 | E11: 641 | F11: =E11/$E$90 -> 0.00037184814 | G11: =(E11-C11)/C11 -> 0.012638231 | H11: =E11-C11 -> 8 | I11: =H11/$H$90 -> 0.00021340162 | J11: =E11-D11 -> -7
A12: 12 | B12: TÜTÜN ÜRÜNLERİ İMALATI | C12: 43 | D12: 44 | E12: 45 | F12: =E12/$E$90 -> 2.6104783e-05 | G12: =(E12-C12)/C12 -> 0.046511628 | H12: =E12-C12 -> 2 | I12: =H12/$H$90 -> 5.3350405e-05 | J12: =E12-D12 -> 1
A13: 13 | B13: TEKSTİL ÜRÜNLERİ İMALATI | C13: 17192 | D13: 16743 | E13: 16772 | F13: =E13/$E$90 -> 0.0097295428 | G13: =(E13-C13)/C13 -> -0.024429967 | H13: =E13-C13 -> -420 | I13: =H13/$H$90 -> -0.011203585 | J13: =E13-D13 -> 29
... A89: 99 | B89: ULUSLARARASI ÖRGÜT VE TEMS.FA. | C89: 498 | D89: 493 | E89: 489 | F89: =E89/$E$90 -> 0.00028367198 | G89: =(E89-C89)/C89 -> -0.018072289 | H89: =E89-C89 -> -9 | I89: =H89/$H$90 -> -0.00024007682 | J89: =E89-D89 -> -4
A90: T O P L A M | C90: 1686334 | D90: 1710660 | E90: 1723822 | F90: =E90/$E$90 -> 1 | G90: =(E90-C90)/C90 -> 0.022230472 | H90: =E90-C90 -> 37488 | I90: =H90/$H$90 -> 1 | J90: =E90-D90 -> 13162

Sheet 4a_İl
A1: İL KODU | B1: İLLER | C1: 42064 | D1: 42401 | E1: 42430 | F1: İlin Payı (Mart 2016) | G1: Çalışan Sayısında Değişim (Mart 2016 - Mart 2015) | H1: Çalışan Sayısındaki Fark (Mart 2016 - Mart 2015) | I1: Artışta İlin Payı (%) (Mart 2016) | J1: Çalışan Sayısındaki Fark (Mart 2016 - Şubat 2016)
A2: 1 | B2: ADANA | C2: 289130 | D2: 293786 | E2: 297183 | F2: =E2/$E$83 -> 0.021431254 | G2: =(E2-C2)/C2 -> 0.027852523 | H2: =E2-C2 -> 8053 | I2: =H2/$H$83 -> 0.014949617 | J2: =E2-D2 -> 3397
A3: 2 | B3: ADIYAMAN | C3: 43276 | D3: 45302 | E3: 47455 | F3: =E3/$E$83 -> 0.0034222017 | G3: =(E3-C3)/C3 -> 0.096566226 | H3: =E3-C3 -> 4179 | I3: =H3/$H$83 -> 0.0077579101 | J3: =E3-D3 -> 2153
A4: 3 | B4: AFYONKARAHİSAR | C4: 81384 | D4: 82828 | E4: 85304 | F4: =E4/$E$83 -> 0.0061516698 | G4: =(E4-C4)/C4 -> 0.048166716 | H4: =E4-C4 -> 3920 | I4: =H4/$H$83 -> 0.0072771016 | J4: =E4-D4 -> 2476
A5: 4 | B5: AĞRI | C5: 18415 | D5: 19805 | E5: 20313 | F5: =E5/$E$83 -> 0.0014648653 | G5: =(E5-C5)/C5 -> 0.10306815 | H5: =E5-C5 -> 1898 | I5: =H5/$H$83 -> 0.0035234538 | J5: =E5-D5 -> 508
A6: 5 | B6: AMASYA | C6: 37256 | D6: 38883 | E6: 39910 | F6: =E6/$E$83 -> 0.0028780965 | G6: =(E6-C6)/C6 -> 0.071236848 | H6: =E6-C6 -> 2654 | I6: =H6/$H$83 -> 0.0049268948 | J6: =E6-D6 -> 1027
A7: 6 | B7: ANKARA | C7: 1142408 | D7: 1187233 | E7: 1258933 | F7: =E7/$E$83 -> 0.090787538 | G7: =(E7-C7)/C7 -> 0.10199946 | H7: =E7-C7 -> 116525 | I7: =H7/$H$83 -> 0.21631742 | J7: =E7-D7 -> 71700
A8: 7 | B8: ANTALYA | C8: 500868 | D8: 462937 | E8: 481475 | F8: =E8/$E$83 -> 0.034721411 | G8: =(E8-C8)/C8 -> -0.038718784 | H8: =E8-C8 -> -19393 | I8: =H8/$H$83 -> -0.036001233 | J8: =E8-D8 -> 18538
A9: 8 | B9: ARTVİN | C9: 22104 | D9: 22748 | E9: 23282 | F9: =E9/$E$83 -> 0.0016789738 | G9: =(E9-C9)/C9 -> 0.053293522 | H9: =E9-C9 -> 1178 | I9: =H9/$H$83 -> 0.0021868433 | J9: =E9-D9 -> 534
A10: 9 | B10: AYDIN | C10: 141151 | D10: 150306 | E10: 151105 | F10: =E10/$E$83 -> 0.010896887 | G10: =(E10-C10)/C10 -> 0.070520223 | H10: =E10-C10 -> 9954 | I10: =H10/$H$83 -> 0.01847864 | J10: =E10-D10 -> 799
A11: 10 | B11: BALIKESİR | C11: 154401 | D11: 159901 | E11: 161558 | F11: =E11/$E$83 -> 0.011650702 | G11: =(E11-C11)/C11 -> 0.046353327 | H11: =E11-C11 -> 7157 | I11: =H11/$H$83 -> 0.01328628 | J11: =E11-D11 -> 1657
A12: 11 | B12: BİLECİK | C12: 40905 | D12: 41342 | E12: 42423 | F12: =E12/$E$83 -> 0.0030593207 | G12: =(E12-C12)/C12 -> 0.037110378 | H12: =E12-C12 -> 1518 | I12: =H12/$H$83 -> 0.0028180205 | J12: =E12-D12 -> 1081
A13: 12 | B13: BİNGÖL | C13: 19920 | D13: 21192 | E13: 24623 | F13: =E13/$E$83 -> 0.0017756795 | G13: =(E13-C13)/C13 -> 0.23609438 | H13: =E13-C13 -> 4703 | I13: =H13/$H$83 -> 0.0087306656 | J13: =E13-D13 -> 3431
... A82: 81 | B82: DÜZCE | C82: 68512 | D82: 68222 | E82: 68716 | F82: =E82/$E$83 -> 0.0049554317 | G82: =(E82-C82)/C82 -> 0.0029775806 | H82: =E82-C82 -> 204 | I82: =H82/$H$83 -> 0.00037870631 | J82: =E82-D82 -> 494
A83: TOPLAM | C83: 13328128 | D83: 13575109 | E83: 13866804 | F83: =E83/$E$83 -> 1 | G83: =(E83-C83)/C83 -> 0.040416479 | H83: =E83-C83 -> 538676 | I83: =H83/$H$83 -> 1 | J83: =E83-D83 -> 291695

Sheet 4b_Esnaf_İl
A1: İL KODU | B1: İLLER | C1: 42064 | D1: 42401 | E1: 42430 | F1: İlin Payı (Mart 2016) | G1: Esnaf Sayısında Değişim (Mart 2016 - Mart 2015) | H1: Esnaf Sayısındaki Fark (Mart 2016 - Mart 2015) | I1: Artışta İlin Payı (%) (Mart 2016) | J1: Esnaf Sayısındaki Fark (Mart 2016 - Şubat 2016)
A2: 1 | B2: ADANA | C2: 52381 | D2: 49673 | E2: 49312 | F2: =E2/$E$83 -> 0.025472403 | G2: =(E2-C2)/C2 -> -0.058589947 | H2: =E2-C2 -> -3069 | I2: =H2/$H$83 -> 0.034131856 | J2: =E2-D2 -> -361
A3: 2 | B3: ADIYAMAN | C3: 11424 | D3: 10843 | E3: 10747 | F3: =E3/$E$83 -> 0.005551426 | G3: =(E3-C3)/C3 -> -0.059261204 | H3: =E3-C3 -> -677 | I3: =H3/$H$83 -> 0.0075292495 | J3: =E3-D3 -> -96
A4: 3 | B4: AFYONKARAHİSAR | C4: 16952 | D4: 16595 | E4: 16510 | F4: =E4/$E$83 -> 0.0085283375 | G4: =(E4-C4)/C4 -> -0.02607362 | H4: =E4-C4 -> -442 | I4: =H4/$H$83 -> 0.0049156991 | J4: =E4-D4 -> -85
A5: 4 | B5: AĞRI | C5: 5644 | D5: 5467 | E5: 5442 | F5: =E5/$E$83 -> 0.0028110971 | G5: =(E5-C5)/C5 -> -0.03579022 | H5: =E5-C5 -> -202 | I5: =H5/$H$83 -> 0.0022465412 | J5: =E5-D5 -> -25
A6: 5 | B6: AMASYA | C6: 7541 | D6: 7334 | E6: 7318 | F6: =E6/$E$83 -> 0.0037801559 | G6: =(E6-C6)/C6 -> -0.029571675 | H6: =E6-C6 -> -223 | I6: =H6/$H$83 -> 0.0024800925 | J6: =E6-D6 -> -16
A7: 6 | B7: ANKARA | C7: 131617 | D7: 123448 | E7: 122319 | F7: =E7/$E$83 -> 0.063184598 | G7: =(E7-C7)/C7 -> -0.07064437 | H7: =E7-C7 -> -9298 | I7: =H7/$H$83 -> 0.10340762 | J7: =E7-D7 -> -1129
A8: 7 | B8: ANTALYA | C8: 90850 | D8: 87020 | E8: 86140 | F8: =E8/$E$83 -> 0.044496123 | G8: =(E8-C8)/C8 -> -0.051843698 | H8: =E8-C8 -> -4710 | I8: =H8/$H$83 -> 0.052382223 | J8: =E8-D8 -> -880
A9: 8 | B9: ARTVİN | C9: 4532 | D9: 4287 | E9: 4261 | F9: =E9/$E$83 -> 0.0022010446 | G9: =(E9-C9)/C9 -> -0.059796999 | H9: =E9-C9 -> -271 | I9: =H9/$H$83 -> 0.0030139241 | J9: =E9-D9 -> -26
A10: 9 | B10: AYDIN | C10: 35565 | D10: 34473 | E10: 34330 | F10: =E10/$E$83 -> 0.017733363 | G10: =(E10-C10)/C10 -> -0.034725151 | H10: =E10-C10 -> -1235 | I10: =H10/$H$83 -> 0.013735042 | J10: =E10-D10 -> -143
A11: 10 | B11: BALIKESİR | C11: 35710 | D11: 34246 | E11: 34092 | F11: =E11/$E$83 -> 0.017610423 | G11: =(E11-C11)/C11 -> -0.045309437 | H11: =E11-C11 -> -1618 | I11: =H11/$H$83 -> 0.017994573 | J11: =E11-D11 -> -154
A12: 11 | B12: BİLECİK | C12: 4126 | D12: 3987 | E12: 3948 | F12: =E12/$E$83 -> 0.0020393626 | G12: =(E12-C12)/C12 -> -0.043141057 | H12: =E12-C12 -> -178 | I12: =H12/$H$83 -> 0.0019796254 | J12: =E12-D12 -> -39
A13: 12 | B13: BİNGÖL | C13: 3119 | D13: 2949 | E13: 2977 | F13: =E13/$E$83 -> 0.0015377868 | G13: =(E13-C13)/C13 -> -0.045527413 | H13: =E13-C13 -> -142 | I13: =H13/$H$83 -> 0.0015792517 | J13: =E13-D13 -> 28
... A82: 81 | B82: DÜZCE | C82: 8736 | D82: 8592 | E82: 8608 | F82: =E82/$E$83 -> 0.004446513 | G82: =(E82-C82)/C82 -> -0.014652015 | H82: =E82-C82 -> -128 | I82: =H82/$H$83 -> 0.0014235509 | J82: =E82-D82 -> 16
A83: TOPLAM | C83: 2025815 | D83: 1949324 | E83: 1935899 | F83: =E83/$E$83 -> 1 | G83: =(E83-C83)/C83 -> -0.044385099 | H83: =E83-C83 -> -89916 | I83: =H83/$H$83 -> 1 | J83: =E83-D83 -> -13425

Sheet 4b_Tarım_İl
A1: İL KODU | B1: İLLER | C1: 42064 | D1: 42401 | E1: 42430 | F1: İlin Payı (Mart 2016) | G1: Çiftçi Sayısında Değişim (Mart 2016 - Mart 2015) | H1: Çiftçi Sayısındaki Fark (Mart 2016 - Mart 2015) | I1: Artışta İlin Payı (%) (Mart 2016) | J1: Çiftçi Sayısındaki Fark (Mart 2016 - Şubat 2016)
A2: 1 | B2: ADANA | C2: 19204 | D2: 17711 | E2: 16758 | F2: =E2/$E$83 -> 0.022401377 | G2: =(E2-C2)/C2 -> -0.1273693 | H2: =E2-C2 -> -2446 | I2: =H2/$H$83 -> 0.019706418 | J2: =E2-D2 -> -953
A3: 2 | B3: ADIYAMAN | C3: 6522 | D3: 5877 | E3: 5378 | F3: =E3/$E$83 -> 0.0071890803 | G3: =(E3-C3)/C3 -> -0.17540632 | H3: =E3-C3 -> -1144 | I3: =H3/$H$83 -> 0.0092167384 | J3: =E3-D3 -> -499
A4: 3 | B4: AFYONKARAHİSAR | C4: 19783 | D4: 18567 | E4: 17458 | F4: =E4/$E$83 -> 0.023337107 | G4: =(E4-C4)/C4 -> -0.11752515 | H4: =E4-C4 -> -2325 | I4: =H4/$H$83 -> 0.018731571 | J4: =E4-D4 -> -1109
A5: 4 | B5: AĞRI | C5: 3933 | D5: 3513 | E5: 3225 | F5: =E5/$E$83 -> 0.004311042 | G5: =(E5-C5)/C5 -> -0.18001526 | H5: =E5-C5 -> -708 | I5: =H5/$H$83 -> 0.0057040654 | J5: =E5-D5 -> -288
A6: 5 | B6: AMASYA | C6: 6133 | D6: 5601 | E6: 5131 | F6: =E6/$E$83 -> 0.0068589013 | G6: =(E6-C6)/C6 -> -0.16337844 | H6: =E6-C6 -> -1002 | I6: =H6/$H$83 -> 0.0080727027 | J6: =E6-D6 -> -470
A7: 6 | B7: ANKARA | C7: 17888 | D7: 16648 | E7: 15785 | F7: =E7/$E$83 -> 0.021100713 | G7: =(E7-C7)/C7 -> -0.11756485 | H7: =E7-C7 -> -2103 | I7: =H7/$H$83 -> 0.016943008 | J7: =E7-D7 -> -863
A8: 7 | B8: ANTALYA | C8: 44205 | D8: 41355 | E8: 39407 | F8: =E8/$E$83 -> 0.052677592 | G8: =(E8-C8)/C8 -> -0.10853976 | H8: =E8-C8 -> -4798 | I8: =H8/$H$83 -> 0.038655516 | J8: =E8-D8 -> -1948
A9: 8 | B9: ARTVİN | C9: 1709 | D9: 1454 | E9: 1345 | F9: =E9/$E$83 -> 0.0017979385 | G9: =(E9-C9)/C9 -> -0.21299005 | H9: =E9-C9 -> -364 | I9: =H9/$H$83 -> 0.0029325986 | J9: =E9-D9 -> -109
A10: 9 | B10: AYDIN | C10: 24401 | D10: 22855 | E10: 21951 | F10: =E10/$E$83 -> 0.029343158 | G10: =(E10-C10)/C10 -> -0.10040572 | H10: =E10-C10 -> -2450 | I10: =H10/$H$83 -> 0.019738644 | J10: =E10-D10 -> -904
A11: 10 | B11: BALIKESİR | C11: 28674 | D11: 26033 | E11: 24283 | F11: =E11/$E$83 -> 0.032460475 | G11: =(E11-C11)/C11 -> -0.15313524 | H11: =E11-C11 -> -4391 | I11: =H11/$H$83 -> 0.035376484 | J11: =E11-D11 -> -1750
A12: 11 | B12: BİLECİK | C12: 2369 | D12: 2308 | E12: 2183 | F12: =E12/$E$83 -> 0.002918141 | G12: =(E12-C12)/C12 -> -0.078514141 | H12: =E12-C12 -> -186 | I12: =H12/$H$83 -> 0.0014985256 | J12: =E12-D12 -> -125
A13: 12 | B13: BİNGÖL | C13: 1089 | D13: 956 | E13: 865 | F13: =E13/$E$83 -> 0.001156295 | G13: =(E13-C13)/C13 -> -0.2056933 | H13: =E13-C13 -> -224 | I13: =H13/$H$83 -> 0.001804676 | J13: =E13-D13 -> -91
... A82: 81 | B82: DÜZCE | C82: 5012 | D82: 4578 | E82: 4248 | F82: =E82/$E$83 -> 0.0056785446 | G82: =(E82-C82)/C82 -> -0.15243416 | H82: =E82-C82 -> -764 | I82: =H82/$H$83 -> 0.0061552344 | J82: =E82-D82 -> -330
A83: TOPLAM | C83: 872201 | D83: 797334 | E83: 748079 | F83: =SUM(F2:F82) -> 1 | G83: =(E83-C83)/C83 -> -0.14230894 | H83: =SUM(H2:H82) -> -124122 | I83: =H83/$H$83 -> 1 | J83: =SUM(J2:J82) -> -49255

Sheet 4c_Kamu_İl 
A1: İL KODU | B1: İLLER | C1: 42064 | D1: 42401 | E1: 42430 | F1: İlin Payı (Mart 2016) | G1: Çalışan Sayısında Değişim (Mart 2016 - Mart 2015) | H1: Çalışan Sayısındaki Fark (Mart 2016 - Mart 2015) | I1: Artışta İlin Payı (%) (Mart 2016) | J1: Çalışan Sayısındaki Fark (Mart 2016 - Şubat 2016)
A2: 1 | B2: ADANA | C2: 71020 | D2: 73931 | E2: 74525 | F2: =E2/$E$83 -> 0.024285378 | G2: =(E2-C2)/C2 -> 0.049352295 | H2: =E2-C2 -> 3505 | I2: =H2/$H$83 -> 0.02465081 | J2: =E2-D2 -> 594
A3: 2 | B3: ADIYAMAN | C3: 21613 | D3: 22674 | E3: 22773 | F3: =E3/$E$83 -> 0.0074210118 | G3: =(E3-C3)/C3 -> 0.053671401 | H3: =E3-C3 -> 1160 | I3: =H3/$H$83 -> 0.0081583278 | J3: =E3-D3 -> 99
A4: 3 | B4: AFYONKARAHİSAR | C4: 27510 | D4: 28887 | E4: 28945 | F4: =E4/$E$83 -> 0.0094322745 | G4: =(E4-C4)/C4 -> 0.05216285 | H4: =E4-C4 -> 1435 | I4: =H4/$H$83 -> 0.010092414 | J4: =E4-D4 -> 58
A5: 4 | B5: AĞRI | C5: 18782 | D5: 19914 | E5: 20046 | F5: =E5/$E$83 -> 0.0065323674 | G5: =(E5-C5)/C5 -> 0.067298477 | H5: =E5-C5 -> 1264 | I5: =H5/$H$83 -> 0.0088897641 | J5: =E5-D5 -> 132
A6: 5 | B6: AMASYA | C6: 17154 | D6: 17008 | E6: 16989 | F6: =E6/$E$83 -> 0.0055361863 | G6: =(E6-C6)/C6 -> -0.0096187478 | H6: =E6-C6 -> -165 | I6: =H6/$H$83 -> -0.0011604518 | J6: =E6-D6 -> -19
A7: 6 | B7: ANKARA | C7: 393223 | D7: 409121 | E7: 409144 | F7: =E7/$E$83 -> 0.13332729 | G7: =(E7-C7)/C7 -> 0.040488476 | H7: =E7-C7 -> 15921 | I7: =H7/$H$83 -> 0.11197305 | J7: =E7-D7 -> 23
A8: 7 | B8: ANTALYA | C8: 67816 | D8: 72721 | E8: 72873 | F8: =E8/$E$83 -> 0.023747042 | G8: =(E8-C8)/C8 -> 0.074569423 | H8: =E8-C8 -> 5057 | I8: =H8/$H$83 -> 0.035566089 | J8: =E8-D8 -> 152
A9: 8 | B9: ARTVİN | C9: 9383 | D9: 9401 | E9: 9402 | F9: =E9/$E$83 -> 0.0030638191 | G9: =(E9-C9)/C9 -> 0.0020249387 | H9: =E9-C9 -> 19 | I9: =H9/$H$83 -> 0.00013362778 | J9: =E9-D9 -> 1
A10: 9 | B10: AYDIN | C10: 37219 | D10: 39204 | E10: 39261 | F10: =E10/$E$83 -> 0.012793938 | G10: =(E10-C10)/C10 -> 0.054864451 | H10: =E10-C10 -> 2042 | I10: =H10/$H$83 -> 0.01436147 | J10: =E10-D10 -> 57
A11: 10 | B11: BALIKESİR | C11: 50009 | D11: 52847 | E11: 52858 | F11: =E11/$E$83 -> 0.017224777 | G11: =(E11-C11)/C11 -> 0.056969745 | H11: =E11-C11 -> 2849 | I11: =H11/$H$83 -> 0.020037134 | J11: =E11-D11 -> 11
A12: 11 | B12: BİLECİK | C12: 9364 | D12: 9643 | E12: 9630 | F12: =E12/$E$83 -> 0.0031381172 | G12: =(E12-C12)/C12 -> 0.028406664 | H12: =E12-C12 -> 266 | I12: =H12/$H$83 -> 0.001870789 | J12: =E12-D12 -> -13
A13: 12 | B13: BİNGÖL | C13: 14231 | D13: 14972 | E13: 15227 | F13: =E13/$E$83 -> 0.0049620053 | G13: =(E13-C13)/C13 -> 0.069988054 | H13: =E13-C13 -> 996 | I13: =H13/$H$83 -> 0.0070049091 | J13: =E13-D13 -> 255
... A82: 81 | B82: DÜZCE | C82: 12253 | D82: 12889 | E82: 12885 | F82: =E82/$E$83 -> 0.0041988204 | G82: =(E82-C82)/C82 -> 0.051579205 | H82: =E82-C82 -> 632 | I82: =H82/$H$83 -> 0.0044448821 | J82: =E82-D82 -> -4
A83: TOPLAM | C83: 2926533 | D83: 3059263 | E83: 3068719 | F83: =E83/$E$83 -> 1 | G83: =(E83-C83)/C83 -> 0.048585135 | H83: =E83-C83 -> 142186 | I83: =H83/$H$83 -> 1 | J83: =E83-D83 -> 9456

Sheet 4a_İşyeri_İl
A1: İL KODU | B1: İLLER | C1: 42064 | D1: 42401 | E1: 42430 | F1: İlin Payı (Mart 2016) | G1: İşyeri Sayısında Değişim (Mart 2016 - Mart 2015) | H1: İşyeri Sayısındaki Fark (Mart 2016 - Mart 2015) | I1: Artışta İlin Payı (%) (Mart 2016) | J1: İşyeri Sayısındaki Fark (Mart 2016 - Şubat 2016)
A2: 1 | B2: ADANA | C2: 38746 | D2: 38811 | E2: 38943 | F2: =E2/$E$83 -> 0.02259108 | G2: =(E2-C2)/C2 -> 0.0050843958 | H2: =E2-C2 -> 197 | I2: =H2/$H$83 -> 0.0052550149 | J2: =E2-D2 -> 132
A3: 2 | B3: ADIYAMAN | C3: 5821 | D3: 6025 | E3: 6130 | F3: =E3/$E$83 -> 0.0035560516 | G3: =(E3-C3)/C3 -> 0.053083663 | H3: =E3-C3 -> 309 | I3: =H3/$H$83 -> 0.0082426376 | J3: =E3-D3 -> 105
A4: 3 | B4: AFYONKARAHİSAR | C4: 11607 | D4: 12006 | E4: 12125 | F4: =E4/$E$83 -> 0.0070337889 | G4: =(E4-C4)/C4 -> 0.044628242 | H4: =E4-C4 -> 518 | I4: =H4/$H$83 -> 0.013817755 | J4: =E4-D4 -> 119
A5: 4 | B5: AĞRI | C5: 2252 | D5: 2290 | E5: 2311 | F5: =E5/$E$83 -> 0.0013406257 | G5: =(E5-C5)/C5 -> 0.026198934 | H5: =E5-C5 -> 59 | I5: =H5/$H$83 -> 0.001573837 | J5: =E5-D5 -> 21
A6: 5 | B6: AMASYA | C6: 5419 | D6: 5383 | E6: 5444 | F6: =E6/$E$83 -> 0.0031580987 | G6: =(E6-C6)/C6 -> 0.0046133973 | H6: =E6-C6 -> 25 | I6: =H6/$H$83 -> 0.00066688007 | J6: =E6-D6 -> 61
A7: 6 | B7: ANKARA | C7: 134783 | D7: 135134 | E7: 136131 | F7: =E7/$E$83 -> 0.078970451 | G7: =(E7-C7)/C7 -> 0.010001261 | H7: =E7-C7 -> 1348 | I7: =H7/$H$83 -> 0.035958173 | J7: =E7-D7 -> 997
A8: 7 | B8: ANTALYA | C8: 65940 | D8: 66519 | E8: 67147 | F8: =E8/$E$83 -> 0.038952398 | G8: =(E8-C8)/C8 -> 0.018304519 | H8: =E8-C8 -> 1207 | I8: =H8/$H$83 -> 0.03219697 | J8: =E8-D8 -> 628
A9: 8 | B9: ARTVİN | C9: 3249 | D9: 3370 | E9: 3397 | F9: =E9/$E$83 -> 0.0019706211 | G9: =(E9-C9)/C9 -> 0.045552478 | H9: =E9-C9 -> 148 | I9: =H9/$H$83 -> 0.00394793 | J9: =E9-D9 -> 27
A10: 9 | B10: AYDIN | C10: 24513 | D10: 25307 | E10: 25550 | F10: =E10/$E$83 -> 0.014821716 | G10: =(E10-C10)/C10 -> 0.042304084 | H10: =E10-C10 -> 1037 | I10: =H10/$H$83 -> 0.027662185 | J10: =E10-D10 -> 243
A11: 10 | B11: BALIKESİR | C11: 26271 | D11: 26825 | E11: 26965 | F11: =E11/$E$83 -> 0.015642566 | G11: =(E11-C11)/C11 -> 0.026416962 | H11: =E11-C11 -> 694 | I11: =H11/$H$83 -> 0.018512591 | J11: =E11-D11 -> 140
A12: 11 | B12: BİLECİK | C12: 4295 | D12: 4399 | E12: 4455 | F12: =E12/$E$83 -> 0.0025843736 | G12: =(E12-C12)/C12 -> 0.037252619 | H12: =E12-C12 -> 160 | I12: =H12/$H$83 -> 0.0042680324 | J12: =E12-D12 -> 56
A13: 12 | B13: BİNGÖL | C13: 1740 | D13: 1908 | E13: 1997 | F13: =E13/$E$83 -> 0.0011584723 | G13: =(E13-C13)/C13 -> 0.14770115 | H13: =E13-C13 -> 257 | I13: =H13/$H$83 -> 0.0068555271 | J13: =E13-D13 -> 89
... A82: 81 | B82: DÜZCE | C82: 6847 | D82: 7244 | E82: 7289 | F82: =E82/$E$83 -> 0.0042283948 | G82: =(E82-C82)/C82 -> 0.064553819 | H82: =E82-C82 -> 442 | I82: =H82/$H$83 -> 0.01179044 | J82: =E82-D82 -> 45
A83: TOPLAM | C83: 1686334 | D83: 1710660 | E83: 1723822 | F83: =E83/$E$83 -> 1 | G83: =(E83-C83)/C83 -> 0.022230472 | H83: =E83-C83 -> 37488 | I83: =H83/$H$83 -> 1 | J83: =E83-D83 -> 13162

Sheet 4a_Kadın_Sektör
A1: FAALİYET KODU | B1: FAALİYET GRUPLARI | C1: 42064 | D1: 42401 | E1: 42430 | F1: Sektörün Sigortalı Kadın İstihdamındaki Payı (Mart 2016) | G1: Çalışan Sayısında Değişim (Mart 2016- Mart 2015) | H1: Çalışan Sayısındaki Fark (Mart 2016 - Mart 2015) | I1: Artışta Sektörün Payı (%) (Mart 2016) | J1: Çalışan Sayısındaki Fark (Mart 2016 - Şubat 2016)
A2: 1 | B2: BİTKİSEL VE HAYVANSAL ÜRETİM | C2: 28614 | D2: 30188 | E2: 31040 | F2: =E2/$E$90 -> 0.008110529 | G2: =(E2-C2)/C2 -> 0.084783672 | H2: =E2-C2 -> 2426 | I2: =H2/$H$90 -> 0.0096991116 | J2: =E2-D2 -> 852
A3: 2 | B3: ORMANCILIK VE TOMRUKÇULUK | C3: 4088 | D3: 6512 | E3: 5642 | F3: =E3/$E$90 -> 0.0014742141 | G3: =(E3-C3)/C3 -> 0.38013699 | H3: =E3-C3 -> 1554 | I3: =H3/$H$90 -> 0.0062128687 | J3: =E3-D3 -> -870
A4: 3 | B4: BALIKÇILIK VE SU ÜRÜNLERİ YETİŞ. | C4: 1271 | D4: 1311 | E4: 1316 | F4: =E4/$E$90 -> 0.00034386134 | G4: =(E4-C4)/C4 -> 0.035405193 | H4: =E4-C4 -> 45 | I4: =H4/$H$90 -> 0.00017990933 | J4: =E4-D4 -> 5
A5: 5 | B5: KÖMÜR VE LİNYİT ÇIKARTILMASI | C5: 440 | D5: 447 | E5: 444 | F5: =E5/$E$90 -> 0.00011601401 | G5: =(E5-C5)/C5 -> 0.0090909091 | H5: =E5-C5 -> 4 | I5: =H5/$H$90 -> 1.599194e-05 | J5: =E5-D5 -> -3
A6: 6 | B6: HAM PETROL VE DOĞALGAZ ÇIKARIMI | C6: 79 | D6: 79 | E6: 90 | F6: =E6/$E$90 -> 2.3516353e-05 | G6: =(E6-C6)/C6 -> 0.13924051 | H6: =E6-C6 -> 11 | I6: =H6/$H$90 -> 4.3977835e-05 | J6: =E6-D6 -> 11
A7: 7 | B7: METAL CEVHERİ MADENCİLİĞİ | C7: 880 | D7: 822 | E7: 784 | F7: =E7/$E$90 -> 0.00020485357 | G7: =(E7-C7)/C7 -> -0.10909091 | H7: =E7-C7 -> -96 | I7: =H7/$H$90 -> -0.00038380656 | J7: =E7-D7 -> -38
A8: 8 | B8: DİĞER MADENCİLİK VE TAŞ ŞubatÇILIĞI | C8: 2852 | D8: 2972 | E8: 3191 | F8: =E8/$E$90 -> 0.00083378537 | G8: =(E8-C8)/C8 -> 0.11886396 | H8: =E8-C8 -> 339 | I8: =H8/$H$90 -> 0.0013553169 | J8: =E8-D8 -> 219
A9: 9 | B9: MADENCİLİĞİ DESTEKLEYİCİ HİZMET | C9: 440 | D9: 442 | E9: 417 | F9: =E9/$E$90 -> 0.0001089591 | G9: =(E9-C9)/C9 -> -0.052272727 | H9: =E9-C9 -> -23 | I9: =H9/$H$90 -> -9.1953655e-05 | J9: =E9-D9 -> -25
A10: 10 | B10: GIDA ÜRÜNLERİ İMALATI | C10: 116622 | D10: 123996 | E10: 123040 | F10: =E10/$E$90 -> 0.032149468 | G10: =(E10-C10)/C10 -> 0.055032498 | H10: =E10-C10 -> 6418 | I10: =H10/$H$90 -> 0.025659068 | J10: =E10-D10 -> -956
A11: 11 | B11: İÇECEK İMALATI | C11: 2405 | D11: 2341 | E11: 2376 | F11: =E11/$E$90 -> 0.00062083173 | G11: =(E11-C11)/C11 -> -0.012058212 | H11: =E11-C11 -> -29 | I11: =H11/$H$90 -> -0.00011594157 | J11: =E11-D11 -> 35
A12: 12 | B12: TÜTÜN ÜRÜNLERİ İMALATI | C12: 1246 | D12: 940 | E12: 1192 | F12: =E12/$E$90 -> 0.00031146103 | G12: =(E12-C12)/C12 -> -0.043338684 | H12: =E12-C12 -> -54 | I12: =H12/$H$90 -> -0.00021589119 | J12: =E12-D12 -> 252
A13: 13 | B13: TEKSTİL ÜRÜNLERİ İMALATI | C13: 123683 | D13: 118506 | E13: 117967 | F13: =E13/$E$90 -> 0.030823929 | G13: =(E13-C13)/C13 -> -0.04621492 | H13: =E13-C13 -> -5716 | I13: =H13/$H$90 -> -0.022852482 | J13: =E13-D13 -> -539
... A89: 99 | B89: ULUSLARARASI ÖRGÜT VE TEMS.FA. | C89: 1661 | D89: 1822 | E89: 1806 | F89: =E89/$E$90 -> 0.00047189482 | G89: =(E89-C89)/C89 -> 0.087296809 | H89: =E89-C89 -> 145 | I89: =H89/$H$90 -> 0.00057970783 | J89: =E89-D89 -> -16
A90: T O P L A M | C90: 3576998 | D90: 3779497 | E90: 3827124 | F90: =E90/$E$90 -> 1 | G90: =(E90-C90)/C90 -> 0.069926234 | H90: =E90-C90 -> 250126 | I90: =H90/$H$90 -> 1 | J90: =E90-D90 -> 47627

Sheet 4a_Kadın_İmalat_Sektör
A1: FAALİYET KODU | B1: FAALİYET GRUPLARI | C1: 42064 | D1: 42401 | E1: 42430 | F1: Sektörün Sigortalı Kadın İstihdamındaki Payı (Mart 2016) | G1: Çalışan Sayısında Değişim (Mart 2016 - Mart 2015) | H1: Çalışan Sayısındaki Fark (Mart 2016 - Mart 2015) | I1: Artışta Sektörün Payı (%) (Mart 2016) | J1: Çalışan Sayısındaki Fark (Mart 2016- Şubat 2016)
A2: 10 | B2: GIDA ÜRÜNLERİ İMALATI | C2: 116622 | D2: 123996 | E2: 123040 | F2: =E2/$E$26 -> 0.14767499 | G2: =(E2-C2)/C2 -> 0.055032498 | H2: =E2-C2 -> 6418 | I2: =H2/$H$26 -> 1.6541237 | J2: =E2-D2 -> -956
A3: 11 | B3: İÇECEK İMALATI | C3: 2405 | D3: 2341 | E3: 2376 | F3: =E3/$E$26 -> 0.0028517213 | G3: =(E3-C3)/C3 -> -0.012058212 | H3: =E3-C3 -> -29 | I3: =H3/$H$26 -> -0.0074742268 | J3: =E3-D3 -> 35
A4: 12 | B4: TÜTÜN ÜRÜNLERİ İMALATI | C4: 1246 | D4: 940 | E4: 1192 | F4: =E4/$E$26 -> 0.0014306615 | G4: =(E4-C4)/C4 -> -0.043338684 | H4: =E4-C4 -> -54 | I4: =H4/$H$26 -> -0.013917526 | J4: =E4-D4 -> 252
A5: 13 | B5: TEKSTİL ÜRÜNLERİ İMALATI | C5: 123683 | D5: 118506 | E5: 117967 | F5: =E5/$E$26 -> 0.14158628 | G5: =(E5-C5)/C5 -> -0.04621492 | H5: =E5-C5 -> -5716 | I5: =H5/$H$26 -> -1.4731959 | J5: =E5-D5 -> -539
A6: 14 | B6: GİYİM EŞYALARI İMALATI | C6: 244301 | D6: 238170 | E6: 238690 | F6: =E6/$E$26 -> 0.28648037 | G6: =(E6-C6)/C6 -> -0.022967569 | H6: =E6-C6 -> -5611 | I6: =H6/$H$26 -> -1.446134 | J6: =E6-D6 -> 520
A7: 15 | B7: DERİ VE İLGİLİ ÜRÜNLER İMALATI | C7: 12790 | D7: 12693 | E7: 12795 | F7: =E7/$E$26 -> 0.015356807 | G7: =(E7-C7)/C7 -> 0.00039093041 | H7: =E7-C7 -> 5 | I7: =H7/$H$26 -> 0.0012886598 | J7: =E7-D7 -> 102
A8: 16 | B8: AĞAÇ,AĞAÇ ÜRÜNLERİ VE MANTAR ÜR. | C8: 10100 | D8: 8066 | E8: 8073 | F8: =E8/$E$26 -> 0.0096893712 | G8: =(E8-C8)/C8 -> -0.20069307 | H8: =E8-C8 -> -2027 | I8: =H8/$H$26 -> -0.52242268 | J8: =E8-D8 -> 7
A9: 17 | B9: KAĞIT VE KAĞIT ÜRÜNLERİ İMALATI | C9: 9347 | D9: 9338 | E9: 9460 | F9: =E9/$E$26 -> 0.011354076 | G9: =(E9-C9)/C9 -> 0.01208944 | H9: =E9-C9 -> 113 | I9: =H9/$H$26 -> 0.029123711 | J9: =E9-D9 -> 122
A10: 18 | B10: KAYITLI MEDYANIN BASILMASI VE ÇOĞ. | C10: 15004 | D10: 13325 | E10: 13252 | F10: =E10/$E$26 -> 0.015905307 | G10: =(E10-C10)/C10 -> -0.11676886 | H10: =E10-C10 -> -1752 | I10: =H10/$H$26 -> -0.45154639 | J10: =E10-D10 -> -73
A11: 19 | B11: KOK KÖMÜRÜ VE PETROL ÜRÜNLERİ İM. | C11: 1017 | D11: 982 | E11: 960 | F11: =E11/$E$26 -> 0.0011522106 | G11: =(E11-C11)/C11 -> -0.056047198 | H11: =E11-C11 -> -57 | I11: =H11/$H$26 -> -0.014690722 | J11: =E11-D11 -> -22
A12: 20 | B12: KİMYASAL ÜRÜNLERİ İMALATI | C12: 16803 | D12: 16753 | E12: 16893 | F12: =E12/$E$26 -> 0.020275306 | G12: =(E12-C12)/C12 -> 0.0053561864 | H12: =E12-C12 -> 90 | I12: =H12/$H$26 -> 0.023195876 | J12: =E12-D12 -> 140
A13: 21 | B13: ECZACILIK VE ECZ.İLİŞKİN MALZ.İMAL. | C13: 6859 | D13: 7386 | E13: 7422 | F13: =E13/$E$26 -> 0.0089080284 | G13: =(E13-C13)/C13 -> 0.082081936 | H13: =E13-C13 -> 563 | I13: =H13/$H$26 -> 0.14510309 | J13: =E13-D13 -> 36
... A25: 33 | B25: MAKİNE VE EKİPMAN.KURULUMU VE ONAR. | C25: 21695 | D25: 23576 | E25: 23381 | F25: =E25/$E$26 -> 0.02806233 | G25: =(E25-C25)/C25 -> 0.077713759 | H25: =E25-C25 -> 1686 | I25: =H25/$H$26 -> 0.43453608 | J25: =E25-D25 -> -195
A26: T O P L A M | C26: 829301 | D26: 832944 | E26: 833181 | F26: =E26/$E$26 -> 1 | G26: =(E26-C26)/C26 -> 0.004678639 | H26: =E26-C26 -> 3880 | I26: =H26/$H$26 -> 1 | J26: =E26-D26 -> 237

Sheet 4a_Kadın_İl
A1: İL KODU | B1: İLLER | C1: 42064 | D1: 42401 | E1: 42430 | F1: İldeki Kadın İstihdamının Toplam İstihdama Oranı (Mart 2016) | G1: İlin Payı (Mart 2016) | H1: Kadın İstihdamındaki Değişim (Mart 2016 - Mart 2015) | I1: Kadın İstihdamındaki Fark (Mart 2016 - Mart 2015) | J1: Artışta İlin Payı (%) (Mart 2016) | K1: Kadın İstihdamındaki Fark (Mart 2016 - Şubat 2016)
A2: 1 | B2: ADANA | C2: 68422 | D2: 71660 | E2: 71631 | F2: =E2/'4a_İl'!E2 -> 0.2410333 | G2: =E2/$E$83 -> 0.018716666 | H2: =(E2-C2)/C2 -> 0.04690012 | I2: =E2-C2 -> 3209 | J2: =I2/$I$83 -> 0.012829534 | K2: =E2-D2 -> -29
A3: 2 | B3: ADIYAMAN | C3: 7853 | D3: 8860 | E3: 8873 | F3: =E3/'4a_İl'!E3 -> 0.18697714 | G3: =E3/$E$83 -> 0.0023184511 | H3: =(E3-C3)/C3 -> 0.12988667 | I3: =E3-C3 -> 1020 | J3: =I3/$I$83 -> 0.0040779447 | K3: =E3-D3 -> 13
A4: 3 | B4: AFYONKARAHİSAR | C4: 16019 | D4: 18025 | E4: 18015 | F4: =E4/'4a_İl'!E4 -> 0.21118588 | G4: =E4/$E$83 -> 0.00470719 | H4: =(E4-C4)/C4 -> 0.12460204 | I4: =E4-C4 -> 1996 | J4: =I4/$I$83 -> 0.0079799781 | K4: =E4-D4 -> -10
A5: 4 | B5: AĞRI | C5: 2697 | D5: 3273 | E5: 3432 | F5: =E5/'4a_İl'!E5 -> 0.16895584 | G5: =E5/$E$83 -> 0.00089675694 | H5: =(E5-C5)/C5 -> 0.27252503 | I5: =E5-C5 -> 735 | J5: =I5/$I$83 -> 0.002938519 | K5: =E5-D5 -> 159
A6: 5 | B6: AMASYA | C6: 8773 | D6: 10360 | E6: 10328 | F6: =E6/'4a_İl'!E6 -> 0.25878226 | G6: =E6/$E$83 -> 0.0026986322 | H6: =(E6-C6)/C6 -> 0.17724838 | I6: =E6-C6 -> 1555 | J6: =I6/$I$83 -> 0.0062168667 | K6: =E6-D6 -> -32
A7: 6 | B7: ANKARA | C7: 338367 | D7: 371635 | E7: 394925 | F7: =E7/'4a_İl'!E7 -> 0.31369819 | G7: =E7/$E$83 -> 0.10319106 | H7: =(E7-C7)/C7 -> 0.16714987 | I7: =E7-C7 -> 56558 | J7: =I7/$I$83 -> 0.22611804 | K7: =E7-D7 -> 23290
A8: 7 | B8: ANTALYA | C8: 140092 | D8: 132395 | E8: 137403 | F8: =E8/'4a_İl'!E8 -> 0.2853793 | G8: =E8/$E$83 -> 0.035902417 | H8: =(E8-C8)/C8 -> -0.019194529 | I8: =E8-C8 -> -2689 | J8: =I8/$I$83 -> -0.010750582 | K8: =E8-D8 -> 5008
A9: 8 | B9: ARTVİN | C9: 4371 | D9: 5365 | E9: 5424 | F9: =E9/'4a_İl'!E9 -> 0.23296968 | G9: =E9/$E$83 -> 0.0014172522 | H9: =(E9-C9)/C9 -> 0.24090597 | I9: =E9-C9 -> 1053 | J9: =I9/$I$83 -> 0.0042098782 | K9: =E9-D9 -> 59
A10: 9 | B10: AYDIN | C10: 39329 | D10: 43186 | E10: 42920 | F10: =E10/'4a_İl'!E10 -> 0.2840409 | G10: =E10/$E$83 -> 0.011214688 | H10: =(E10-C10)/C10 -> 0.091306669 | I10: =E10-C10 -> 3591 | J10: =I10/$I$83 -> 0.014356764 | K10: =E10-D10 -> -266
A11: 10 | B11: BALIKESİR | C11: 39336 | D11: 43006 | E11: 42824 | F11: =E11/'4a_İl'!E11 -> 0.26506889 | G11: =E11/$E$83 -> 0.011189603 | H11: =(E11-C11)/C11 -> 0.088671954 | I11: =E11-C11 -> 3488 | J11: =I11/$I$83 -> 0.013944972 | K11: =E11-D11 -> -182
A12: 11 | B12: BİLECİK | C12: 10315 | D12: 11097 | E12: 11184 | F12: =E12/'4a_İl'!E12 -> 0.26363058 | G12: =E12/$E$83 -> 0.0029222988 | H12: =(E12-C12)/C12 -> 0.084246243 | I12: =E12-C12 -> 869 | J12: =I12/$I$83 -> 0.003474249 | K12: =E12-D12 -> 87
A13: 12 | B13: BİNGÖL | C13: 3741 | D13: 5616 | E13: 5761 | F13: =E13/'4a_İl'!E13 -> 0.23396824 | G13: =E13/$E$83 -> 0.0015053079 | H13: =(E13-C13)/C13 -> 0.53996258 | I13: =E13-C13 -> 2020 | J13: =I13/$I$83 -> 0.0080759297 | K13: =E13-D13 -> 145
... A82: 81 | B82: DÜZCE | C82: 21026 | D82: 21049 | E82: 21078 | F82: =E82/'4a_İl'!E82 -> 0.30674079 | G82: =E82/$E$83 -> 0.0055075299 | H82: =(E82-C82)/C82 -> 0.0024731285 | I82: =E82-C82 -> 52 | J82: =I82/$I$83 -> 0.00020789522 | K82: =E82-D82 -> 29
A83: TOPLAM | C83: 3576998 | D83: 3779497 | E83: 3827124 | F83: =E83/'4a_İl'!E83 -> 0.27599179 | G83: =E83/$E$83 -> 1 | H83: =(E83-C83)/C83 -> 0.069926234 | I83: =E83-C83 -> 250126 | J83: =I83/$I$83 -> 1 | K83: =E83-D83 -> 47627

Sheet İşsizlikSigortası_Başvuru
A1: İLLER | B1: 42064 | C1: 42401 | D1: 42430 | E1: İlin Payı (Mart 2016) | F1: Başvuru Sayısındaki Değişim (Mart 2016 - Mart 2015) | G1: Başvuru Sayısındaki Fark (Mart 2016 - Mart 2015) | H1: Geçen Aya Göre Değişim
A2: ADANA | B2: 2036 | C2: 2795 | D2: 2539 | E2: =D2/$D$83 -> 0.022647198 | F2: =(D2-B2)/B2 -> 0.24705305 | G2: =D2-B2 -> 503 | H2: =D2-C2 -> -256
A3: ADIYAMAN | B3: 238 | C3: 433 | D3: 338 | E3: =D3/$D$83 -> 0.0030148692 | F3: =(D3-B3)/B3 -> 0.42016807 | G3: =D3-B3 -> 100 | H3: =D3-C3 -> -95
A4: AFYONKARAHİSAR | B4: 295 | C4: 609 | D4: 575 | E4: =D4/$D$83 -> 0.0051288455 | F4: =(D4-B4)/B4 -> 0.94915254 | G4: =D4-B4 -> 280 | H4: =D4-C4 -> -34
A5: AĞRI | B5: 86 | C5: 134 | D5: 75 | E5: =D5/$D$83 -> 0.00066897985 | F5: =(D5-B5)/B5 -> -0.12790698 | G5: =D5-B5 -> -11 | H5: =D5-C5 -> -59
A6: AKSARAY | B6: 123 | C6: 264 | D6: 209 | E6: =D6/$D$83 -> 0.0018642238 | F6: =(D6-B6)/B6 -> 0.69918699 | G6: =D6-B6 -> 86 | H6: =D6-C6 -> -55
A7: AMASYA | B7: 208 | C7: 356 | D7: 294 | E7: =D7/$D$83 -> 0.002622401 | F7: =(D7-B7)/B7 -> 0.41346154 | G7: =D7-B7 -> 86 | H7: =D7-C7 -> -62
A8: ANKARA | B8: 5961 | C8: 9023 | D8: 8577 | E8: =D8/$D$83 -> 0.076504536 | F8: =(D8-B8)/B8 -> 0.43885254 | G8: =D8-B8 -> 2616 | H8: =D8-C8 -> -446
A9: ANTALYA | B9: 2746 | C9: 6292 | D9: 4921 | E9: =D9/$D$83 -> 0.043893998 | F9: =(D9-B9)/B9 -> 0.79206118 | G9: =D9-B9 -> 2175 | H9: =D9-C9 -> -1371
A10: ARDAHAN | B10: 40 | C10: 87 | D10: 43 | E10: =D10/$D$83 -> 0.00038354845 | F10: =(D10-B10)/B10 -> 0.075 | G10: =D10-B10 -> 3 | H10: =D10-C10 -> -44
A11: ARTVİN | B11: 204 | C11: 261 | D11: 208 | E11: =D11/$D$83 -> 0.0018553041 | F11: =(D11-B11)/B11 -> 0.019607843 | G11: =D11-B11 -> 4 | H11: =D11-C11 -> -53
A12: AYDIN | B12: 703 | C12: 1403 | D12: 1099 | E12: =D12/$D$83 -> 0.0098027847 | F12: =(D12-B12)/B12 -> 0.56330014 | G12: =D12-B12 -> 396 | H12: =D12-C12 -> -304
A13: BALIKESİR | B13: 793 | C13: 1271 | D13: 1234 | E13: =D13/$D$83 -> 0.011006948 | F13: =(D13-B13)/B13 -> 0.55611602 | G13: =D13-B13 -> 441 | H13: =D13-C13 -> -37
... A83: TOPLAM | B83: 78348 | C83: 120497 | D83: 112111 | E83: =D83/$D$83 -> 1 | F83: =(D83-B83)/B83 -> 0.43093634 | G83: =D83-B83 -> 33763 | H83: =D83-C83 -> -8386

Sheet İşsizlikSigortası_Ödeme
A1: İLLER | B1: 42064 | C1: 42401 | D1: 42430 | E1: İlin Payı (Mart 2016) | F1: Ödeme Yapılan Kişi Sayısındaki Değişim (Mart 2016 - Mart 2015) | G1: Ödeme Yapılan Kişi Sayısındaki Fark (Mart 2016 - Mart 2015) | H1: Geçen Aya Göre Değişim
A2: ADANA | B2: 1015 | C2: 1304 | D2: 1361 | E2: =D2/$D$83 -> 0.024739607 | F2: =(D2-B2)/B2 -> 0.3408867 | G2: =D2-B2 -> 346 | H2: =D2-C2 -> 57
A3: ADIYAMAN | B3: 80 | C3: 173 | D3: 206 | E3: =D3/$D$83 -> 0.0037445695 | F3: =(D3-B3)/B3 -> 1.575 | G3: =D3-B3 -> 126 | H3: =D3-C3 -> 33
A4: AFYONKARAHİSAR | B4: 179 | C4: 263 | D4: 275 | E4: =D4/$D$83 -> 0.0049988185 | F4: =(D4-B4)/B4 -> 0.53631285 | G4: =D4-B4 -> 96 | H4: =D4-C4 -> 12
A5: AĞRI | B5: 33 | C5: 38 | D5: 27 | E5: =D5/$D$83 -> 0.00049079309 | F5: =(D5-B5)/B5 -> -0.18181818 | G5: =D5-B5 -> -6 | H5: =D5-C5 -> -11
A6: AKSARAY | B6: 67 | C6: 154 | D6: 110 | E6: =D6/$D$83 -> 0.0019995274 | F6: =(D6-B6)/B6 -> 0.64179104 | G6: =D6-B6 -> 43 | H6: =D6-C6 -> -44
A7: AMASYA | B7: 119 | C7: 143 | D7: 142 | E7: =D7/$D$83 -> 0.0025812081 | F7: =(D7-B7)/B7 -> 0.19327731 | G7: =D7-B7 -> 23 | H7: =D7-C7 -> -1
A8: ANKARA | B8: 2579 | C8: 3902 | D8: 3979 | E8: =D8/$D$83 -> 0.072328359 | F8: =(D8-B8)/B8 -> 0.54284606 | G8: =D8-B8 -> 1400 | H8: =D8-C8 -> 77
A9: ANTALYA | B9: 998 | C9: 2322 | D9: 1971 | E9: =D9/$D$83 -> 0.035827895 | F9: =(D9-B9)/B9 -> 0.9749499 | G9: =D9-B9 -> 973 | H9: =D9-C9 -> -351
A10: ARDAHAN | B10: 9 | C10: 20 | D10: 16 | E10: =D10/$D$83 -> 0.00029084035 | F10: =(D10-B10)/B10 -> 0.77777778 | G10: =D10-B10 -> 7 | H10: =D10-C10 -> -4
A11: ARTVİN | B11: 115 | C11: 116 | D11: 88 | E11: =D11/$D$83 -> 0.0015996219 | F11: =(D11-B11)/B11 -> -0.23478261 | G11: =D11-B11 -> -27 | H11: =D11-C11 -> -28
A12: AYDIN | B12: 278 | C12: 681 | D12: 537 | E12: =D12/$D$83 -> 0.0097613291 | F12: =(D12-B12)/B12 -> 0.93165468 | G12: =D12-B12 -> 259 | H12: =D12-C12 -> -144
A13: BALIKESİR | B13: 386 | C13: 617 | D13: 642 | E13: =D13/$D$83 -> 0.011669969 | F13: =(D13-B13)/B13 -> 0.66321244 | G13: =D13-B13 -> 256 | H13: =D13-C13 -> 25
... A83: TOPLAM | B83: 36102 | C83: 55539 | D83: 55013 | E83: =D83/$D$83 -> 1 | F83: =(D83-B83)/B83 -> 0.52382139 | G83: =D83-B83 -> 18911 | H83: =D83-C83 -> -526

Sheet Ortalama_Günlük_Kazanç_Sektör
A1: FAALİYET GRUPLARI | B1: 42064 | C1: 42401 | D1: 42430 | E1: Ortalama Günlük Kazanç Değişim (Mart 2016 - Mart 2015) | F1: Ortalama Günlük Kazanç Fark (TL) (Mart 2016 - Mart 2015) | G1: Ortalama Günlük Kazanç Fark (TL) (Mart 2016 - Şubat 2016)
A2: BİTKİSEL VE HAYVANSAL ÜRETİM | B2: 61.12 | C2: 71.123725 | D2: 73.487596 | E2: =(D2-B2)/B2 -> 0.20234942 | F2: =D2-B2 -> 12.367596 | G2: =D2-C2 -> 2.3638708
A3: ORMANCILIK VE TOMRUKÇULUK | B3: 78.15 | C3: 83.934984 | D3: 90.055605 | E3: =(D3-B3)/B3 -> 0.152343 | F3: =D3-B3 -> 11.905605 | G3: =D3-C3 -> 6.1206211
A4: BALIKÇILIK VE SU ÜRÜNLERİ YETİŞ. | B4: 59.25 | C4: 74.057796 | D4: 76.592395 | E4: =(D4-B4)/B4 -> 0.29269866 | F4: =D4-B4 -> 17.342395 | G4: =D4-C4 -> 2.5345996
A5: KÖMÜR VE LİNYİT ÇIKARTILMASI | B5: 115.31 | C5: 117.25113 | D5: 144.77702 | E5: =(D5-B5)/B5 -> 0.25554611 | F5: =D5-B5 -> 29.467023 | G5: =D5-C5 -> 27.525891
A6: HAM PETROL VE DOĞALGAZ ÇIKARIMI | B6: 156.04 | C6: 202.18738 | D6: 171.29558 | E6: =(D6-B6)/B6 -> 0.097767102 | F6: =D6-B6 -> 15.255579 | G6: =D6-C6 -> -30.891803
A7: METAL CEVHERİ MADENCİLİĞİ | B7: 86.88 | C7: 100.4608 | D7: 103.30535 | E7: =(D7-B7)/B7 -> 0.18905795 | F7: =D7-B7 -> 16.425355 | G7: =D7-C7 -> 2.8445537
A8: DİĞER MADENCİLİK VE TAŞ Şubat. | B8: 65.43 | C8: 77.18991 | D8: 79.809771 | E8: =(D8-B8)/B8 -> 0.21977336 | F8: =D8-B8 -> 14.379771 | G8: =D8-C8 -> 2.6198605
A9: MADENCİLİĞİ DESTEKLEYİCİ HİZMET | B9: 96.68 | C9: 104.76129 | D9: 111.95006 | E9: =(D9-B9)/B9 -> 0.15794439 | F9: =D9-B9 -> 15.270064 | G9: =D9-C9 -> 7.1887754
A10: GIDA ÜRÜNLERİ İMALATI | B10: 59.6 | C10: 72.572889 | D10: 74.970501 | E10: =(D10-B10)/B10 -> 0.25789432 | F10: =D10-B10 -> 15.370501 | G10: =D10-C10 -> 2.3976127
A11: İÇECEK İMALATI | B11: 92.01 | C11: 97.324928 | D11: 106.86126 | E11: =(D11-B11)/B11 -> 0.16140918 | F11: =D11-B11 -> 14.851259 | G11: =D11-C11 -> 9.536331
A12: TÜTÜN ÜRÜNLERİ İMALATI | B12: 162.43 | C12: 164.56674 | D12: 196.92553 | E12: =(D12-B12)/B12 -> 0.21237169 | F12: =D12-B12 -> 34.495533 | G12: =D12-C12 -> 32.358798
A13: TEKSTİL ÜRÜNLERİ İMALATI | B13: 57.36 | C13: 70.949831 | D13: 73.219492 | E13: =(D13-B13)/B13 -> 0.27649044 | F13: =D13-B13 -> 15.859492 | G13: =D13-C13 -> 2.2696611
... A90: TOPLAM | B90: 66.3 | C90: 79.961369 | D90: 82.526691 | E90: =(D90-B90)/B90 -> 0.24474647 | F90: =D90-B90 -> 16.226691 | G90: =D90-C90 -> 2.5653217

Sheet Ortalama_Günlük_Kazanç_İl
A1: İLLER | B1: 42064 | C1: 42401 | D1: 42430 | E1: Ortalama Günlük Kazanç Değişim (Mart 2016 - Mart 2015) | F1: Ortalama Günlük Kazanç Fark (TL) (Mart 2016 - Mart 2015) | G1: Ortalama Günlük Kazanç Fark (TL) (Mart 2016 - Şubat 2016)
A2: ADANA | B2: 61.18 | C2: 73.340699 | D2: 75.987931 | E2: =(D2-B2)/B2 -> 0.24203875 | F2: =(D2-B2) -> 14.807931 | G2: =(D2-C2) -> 2.6472314
A3: ADIYAMAN | B3: 55.16 | C3: 65.71545 | D3: 69.745029 | E3: =(D3-B3)/B3 -> 0.26441314 | F3: =(D3-B3) -> 14.585029 | G3: =(D3-C3) -> 4.0295793
A4: AFYONKARAHİSAR | B4: 54.52 | C4: 68.303463 | D4: 68.841429 | E4: =(D4-B4)/B4 -> 0.26268212 | F4: =(D4-B4) -> 14.321429 | G4: =(D4-C4) -> 0.53796574
A5: AĞRI | B5: 55.61 | C5: 70.970907 | D5: 69.59908 | E5: =(D5-B5)/B5 -> 0.25155691 | F5: =(D5-B5) -> 13.98908 | G5: =(D5-C5) -> -1.3718279
A6: AMASYA | B6: 54.37 | C6: 67.069989 | D6: 68.772457 | E6: =(D6-B6)/B6 -> 0.26489713 | F6: =(D6-B6) -> 14.402457 | G6: =(D6-C6) -> 1.7024686
A7: ANKARA | B7: 71.04 | C7: 83.644733 | D7: 86.097925 | E7: =(D7-B7)/B7 -> 0.21196404 | F7: =(D7-B7) -> 15.057925 | G7: =(D7-C7) -> 2.4531926
A8: ANTALYA | B8: 59.9 | C8: 73.082429 | D8: 73.831995 | E8: =(D8-B8)/B8 -> 0.23258757 | F8: =(D8-B8) -> 13.931995 | G8: =(D8-C8) -> 0.74956624
A9: ARTVİN | B9: 65.27 | C9: 72.311694 | D9: 74.950349 | E9: =(D9-B9)/B9 -> 0.14831239 | F9: =(D9-B9) -> 9.6803494 | G9: =(D9-C9) -> 2.638655
A10: AYDIN | B10: 55.37 | C10: 67.759504 | D10: 70.010231 | E10: =(D10-B10)/B10 -> 0.26440728 | F10: =(D10-B10) -> 14.640231 | G10: =(D10-C10) -> 2.2507271
A11: BALIKESİR | B11: 57.19 | C11: 69.600472 | D11: 71.696337 | E11: =(D11-B11)/B11 -> 0.25365163 | F11: =(D11-B11) -> 14.506337 | G11: =(D11-C11) -> 2.0958653
A12: BİLECİK | B12: 69.81 | C12: 77.478428 | D12: 84.971229 | E12: =(D12-B12)/B12 -> 0.21717848 | F12: =(D12-B12) -> 15.161229 | G12: =(D12-C12) -> 7.4928017
A13: BİNGÖL | B13: 54.88 | C13: 69.191706 | D13: 70.12549 | E13: =(D13-B13)/B13 -> 0.27779684 | F13: =(D13-B13) -> 15.24549 | G13: =(D13-C13) -> 0.93378484
... A83: TOPLAM | B83: 66.3 | C83: 79.961369 | D83: 82.526691 | E83: =(D83-B83)/B83 -> 0.24474647 | F83: =(D83-B83) -> 16.226691 | G83: =(D83-C83) -> 2.5653217

Sheet KOBİ_İşyeri_İl
A1: İL KODU | B1: İLLER | C1: 42064 | D1: 42401 | E1: 42430 | F1: KOBİ İşyeri Sayısı Değişim (Mart 2016 - Mart 2015) | G1: KOBİ İşyeri Sayısı Fark (Mart 2016 - Mart 2015) | H1: KOBİ İşyeri Sayısı Fark (Mart 2016 - Şubat 2016)
A2: 1 | B2: ADANA | C2: 38653 | D2: 38717 | E2: 38850 | F2: =(E2-C2)/C2 -> 0.005096629 | G2: =E2-C2 -> 197 | H2: =E2-D2 -> 133
A3: 2 | B3: ADIYAMAN | C3: 5812 | D3: 6014 | E3: 6117 | F3: =(E3-C3)/C3 -> 0.052477632 | G3: =E3-C3 -> 305 | H3: =E3-D3 -> 103
A4: 3 | B4: AFYONKARAHİSAR | C4: 11589 | D4: 11993 | E4: 12110 | F4: =(E4-C4)/C4 -> 0.044956424 | G4: =E4-C4 -> 521 | H4: =E4-D4 -> 117
A5: 4 | B5: AĞRI | C5: 2246 | D5: 2285 | E5: 2306 | F5: =(E5-C5)/C5 -> 0.026714159 | G5: =E5-C5 -> 60 | H5: =E5-D5 -> 21
A6: 5 | B6: AMASYA | C6: 5407 | D6: 5368 | E6: 5429 | F6: =(E6-C6)/C6 -> 0.0040687997 | G6: =E6-C6 -> 22 | H6: =E6-D6 -> 61
A7: 6 | B7: ANKARA | C7: 134456 | D7: 134798 | E7: 135773 | F7: =(E7-C7)/C7 -> 0.0097950259 | G7: =E7-C7 -> 1317 | H7: =E7-D7 -> 975
A8: 7 | B8: ANTALYA | C8: 65711 | D8: 66340 | E8: 66944 | F8: =(E8-C8)/C8 -> 0.018763982 | G8: =E8-C8 -> 1233 | H8: =E8-D8 -> 604
A9: 8 | B9: ARTVİN | C9: 3246 | D9: 3367 | E9: 3394 | F9: =(E9-C9)/C9 -> 0.045594578 | G9: =E9-C9 -> 148 | H9: =E9-D9 -> 27
A10: 9 | B10: AYDIN | C10: 24480 | D10: 25273 | E10: 25515 | F10: =(E10-C10)/C10 -> 0.042279412 | G10: =E10-C10 -> 1035 | H10: =E10-D10 -> 242
A11: 10 | B11: BALIKESİR | C11: 26238 | D11: 26790 | E11: 26932 | F11: =(E11-C11)/C11 -> 0.026450187 | G11: =E11-C11 -> 694 | H11: =E11-D11 -> 142
A12: 11 | B12: BİLECİK | C12: 4273 | D12: 4380 | E12: 4433 | F12: =(E12-C12)/C12 -> 0.037444418 | G12: =E12-C12 -> 160 | H12: =E12-D12 -> 53
A13: 12 | B13: BİNGÖL | C13: 1733 | D13: 1899 | E13: 1987 | F13: =(E13-C13)/C13 -> 0.14656665 | G13: =E13-C13 -> 254 | H13: =E13-D13 -> 88
... A82: 81 | B82: DÜZCE | C82: 6818 | D82: 7220 | E82: 7263 | F82: =(E82-C82)/C82 -> 0.065268407 | G82: =E82-C82 -> 445 | H82: =E82-D82 -> 43
A83: TOPLAM | C83: 1682040 | D83: 1706228 | E83: 1719254 | F83: =(E83-C83)/C83 -> 0.022124325 | G83: =E83-C83 -> 37214 | H83: =E83-D83 -> 13026

Sheet KOBİ_İşyeri_Sektör
A1: FAALİYET KODU | B1: FAALİYET GRUPLARI | C1: 42064 | D1: 42401 | E1: 42430 | F1: KOBİ İşyeri Sektör Değişim (Mart 2016 - Mart 2015) | G1: KOBİ İşyeri Sektör Fark (Mart 2016 - Mart 2015) | H1: KOBİ İşyeri Sektör Fark (Mart 2016 - Şubat 2016)
A2: 1 | B2: BİTKİSEL VE HAYVANSAL ÜRETİM | C2: 15234 | D2: 16168 | E2: 16322 | F2: =(E2-C2)/C2 -> 0.071419194 | G2: =E2-C2 -> 1088 | H2: =E2-D2 -> 154
A3: 2 | B3: ORMANCILIK VE TOMRUKÇULUK | C3: 2478 | D3: 2613 | E3: 2655 | F3: =(E3-C3)/C3 -> 0.071428571 | G3: =E3-C3 -> 177 | H3: =E3-D3 -> 42
A4: 3 | B4: BALIKÇILIK VE SU ÜRÜNLERİ YETİŞ. | C4: 1152 | D4: 1165 | E4: 1161 | F4: =(E4-C4)/C4 -> 0.0078125 | G4: =E4-C4 -> 9 | H4: =E4-D4 -> -4
A5: 5 | B5: KÖMÜR VE LİNYİT ÇIKARTILMASI | C5: 659 | D5: 586 | E5: 575 | F5: =(E5-C5)/C5 -> -0.12746586 | G5: =E5-C5 -> -84 | H5: =E5-D5 -> -11
A6: 6 | B6: HAM PETROL VE DOĞALGAZ ÇIKARIMI | C6: 46 | D6: 38 | E6: 44 | F6: =(E6-C6)/C6 -> -0.043478261 | G6: =E6-C6 -> -2 | H6: =E6-D6 -> 6
A7: 7 | B7: METAL CEVHERİ MADENCİLİĞİ | C7: 871 | D7: 839 | E7: 843 | F7: =(E7-C7)/C7 -> -0.032146958 | G7: =E7-C7 -> -28 | H7: =E7-D7 -> 4
A8: 8 | B8: DİĞER MADENCİLİK VE TAŞ ŞubatÇILIĞI | C8: 4484 | D8: 4535 | E8: 4583 | F8: =(E8-C8)/C8 -> 0.022078501 | G8: =E8-C8 -> 99 | H8: =E8-D8 -> 48
A9: 9 | B9: MADENCİLİĞİ DESTEKLEYİCİ HİZMET | C9: 444 | D9: 428 | E9: 445 | F9: =(E9-C9)/C9 -> 0.0022522523 | G9: =E9-C9 -> 1 | H9: =E9-D9 -> 17
A10: 10 | B10: GIDA ÜRÜNLERİ İMALATI | C10: 41265 | D10: 41352 | E10: 41375 | F10: =(E10-C10)/C10 -> 0.0026656973 | G10: =E10-C10 -> 110 | H10: =E10-D10 -> 23
A11: 11 | B11: İÇECEK İMALATI | C11: 629 | D11: 644 | E11: 637 | F11: =(E11-C11)/C11 -> 0.012718601 | G11: =E11-C11 -> 8 | H11: =E11-D11 -> -7
A12: 12 | B12: TÜTÜN ÜRÜNLERİ İMALATI | C12: 37 | D12: 40 | E12: 40 | F12: =(E12-C12)/C12 -> 0.081081081 | G12: =E12-C12 -> 3 | H12: =E12-D12 -> 0
A13: 13 | B13: TEKSTİL ÜRÜNLERİ İMALATI | C13: 16880 | D13: 16456 | E13: 16482 | F13: =(E13-C13)/C13 -> -0.023578199 | G13: =E13-C13 -> -398 | H13: =E13-D13 -> 26
... A89: 99 | B89: ULUSLARARASI ÖRGÜT VE TEMS.FA. | C89: 497 | D89: 492 | E89: 488 | F89: =(E89-C89)/C89 -> -0.018108652 | G89: =E89-C89 -> -9 | H89: =E89-D89 -> -4
A90: T O P L A M | C90: 1682040 | D90: 1706228 | E90: 1719254 | F90: =(E90-C90)/C90 -> 0.022124325 | G90: =E90-C90 -> 37214 | H90: =E90-D90 -> 13026

Sheet KOBİ_Sigortalı_İl
A1: İL KODU | B1: İLLER | C1: 42064 | D1: 42401 | E1: 42430 | F1: KOBİ Sigortalı Sayısı Değişim (Mart 2016 - Mart 2015) | G1: KOBİ Sigortalı Sayısı Fark (Mart 2016 - Mart 2015) | H1: KOBİ Sigortalı Sayısı Fark (Mart 2016 - Şubat 2016)
A2: 1 | B2: ADANA | C2: 240655 | D2: 244200 | E2: 246043 | F2: =(E2-C2)/C2 -> 0.022388897 | G2: =E2-C2 -> 5388 | H2: =E2-D2 -> 1843
A3: 2 | B3: ADIYAMAN | C3: 39046 | D3: 40042 | E3: 41643 | F3: =(E3-C3)/C3 -> 0.066511294 | G3: =E3-C3 -> 2597 | H3: =E3-D3 -> 1601
A4: 3 | B4: AFYONKARAHİSAR | C4: 75071 | D4: 77600 | E4: 79356 | F4: =(E4-C4)/C4 -> 0.057079298 | G4: =E4-C4 -> 4285 | H4: =E4-D4 -> 1756
A5: 4 | B5: AĞRI | C5: 16540 | D5: 18085 | E5: 18523 | F5: =(E5-C5)/C5 -> 0.11989117 | G5: =E5-C5 -> 1983 | H5: =E5-D5 -> 438
A6: 5 | B6: AMASYA | C6: 33152 | D6: 32427 | E6: 33260 | F6: =(E6-C6)/C6 -> 0.003257722 | G6: =E6-C6 -> 108 | H6: =E6-D6 -> 833
A7: 6 | B7: ANKARA | C7: 888679 | D7: 871899 | E7: 888944 | F7: =(E7-C7)/C7 -> 0.00029819541 | G7: =E7-C7 -> 265 | H7: =E7-D7 -> 17045
A8: 7 | B8: ANTALYA | C8: 405124 | D8: 385208 | E8: 394212 | F8: =(E8-C8)/C8 -> -0.026934963 | G8: =E8-C8 -> -10912 | H8: =E8-D8 -> 9004
A9: 8 | B9: ARTVİN | C9: 19658 | D9: 21191 | E9: 21732 | F9: =(E9-C9)/C9 -> 0.10550412 | G9: =E9-C9 -> 2074 | H9: =E9-D9 -> 541
A10: 9 | B10: AYDIN | C10: 125049 | D10: 133742 | E10: 134259 | F10: =(E10-C10)/C10 -> 0.073651129 | G10: =E10-C10 -> 9210 | H10: =E10-D10 -> 517
A11: 10 | B11: BALIKESİR | C11: 138579 | D11: 143028 | E11: 145563 | F11: =(E11-C11)/C11 -> 0.050397246 | G11: =E11-C11 -> 6984 | H11: =E11-D11 -> 2535
A12: 11 | B12: BİLECİK | C12: 28206 | D12: 29080 | E12: 29410 | F12: =(E12-C12)/C12 -> 0.042685953 | G12: =E12-C12 -> 1204 | H12: =E12-D12 -> 330
A13: 12 | B13: BİNGÖL | C13: 16651 | D13: 17169 | E13: 19280 | F13: =(E13-C13)/C13 -> 0.15788842 | G13: =E13-C13 -> 2629 | H13: =E13-D13 -> 2111
... A82: 81 | B82: DÜZCE | C82: 55543 | D82: 56722 | E82: 56887 | F82: =(E82-C82)/C82 -> 0.024197469 | G82: =E82-C82 -> 1344 | H82: =E82-D82 -> 165
A83: TOPLAM | C83: 10957074 | D83: 11010732 | E83: 11169776 | F83: =(E83-C83)/C83 -> 0.019412299 | G83: =E83-C83 -> 212702 | H83: =E83-D83 -> 159044

Sheet KOBİ_Sigortalı_Sektör
A1: FAALİYET KODU | B1: FAALİYET GRUPLARI | C1: 42064 | D1: 42401 | E1: 42430 | F1: KOBİ Sigortalı Sektör Değişim (Mart 2016 - Mart 2015) | G1: KOBİ Sigortalı Sektör Fark (Mart 2016 - Mart 2015) | H1: KOBİ Sigortalı Sektör Fark (Mart 2016 - Şubat 2016)
A2: 1 | B2: BİTKİSEL VE HAYVANSAL ÜRETİM | C2: 96688 | D2: 98643 | E2: 98533 | F2: =(E2-C2)/C2 -> 0.019081996 | G2: =E2-C2 -> 1845 | H2: =E2-D2 -> -110
A3: 2 | B3: ORMANCILIK VE TOMRUKÇULUK | C3: 33036 | D3: 35459 | E3: 33773 | F3: =(E3-C3)/C3 -> 0.022308996 | G3: =E3-C3 -> 737 | H3: =E3-D3 -> -1686
A4: 3 | B4: BALIKÇILIK VE SU ÜRÜNLERİ YETİŞ. | C4: 7512 | D4: 7932 | E4: 7829 | F4: =(E4-C4)/C4 -> 0.042199148 | G4: =E4-C4 -> 317 | H4: =E4-D4 -> -103
A5: 5 | B5: KÖMÜR VE LİNYİT ÇIKARTILMASI | C5: 17076 | D5: 14344 | E5: 13933 | F5: =(E5-C5)/C5 -> -0.1840595 | G5: =E5-C5 -> -3143 | H5: =E5-D5 -> -411
A6: 6 | B6: HAM PETROL VE DOĞALGAZ ÇIKARIMI | C6: 1790 | D6: 1334 | E6: 1742 | F6: =(E6-C6)/C6 -> -0.026815642 | G6: =E6-C6 -> -48 | H6: =E6-D6 -> 408
A7: 7 | B7: METAL CEVHERİ MADENCİLİĞİ | C7: 14900 | D7: 12125 | E7: 12314 | F7: =(E7-C7)/C7 -> -0.17355705 | G7: =E7-C7 -> -2586 | H7: =E7-D7 -> 189
A8: 8 | B8: DİĞER MADENCİLİK VE TAŞ ŞubatÇILIĞI | C8: 53450 | D8: 51478 | E8: 55947 | F8: =(E8-C8)/C8 -> 0.046716558 | G8: =E8-C8 -> 2497 | H8: =E8-D8 -> 4469
A9: 9 | B9: MADENCİLİĞİ DESTEKLEYİCİ HİZMET | C9: 5547 | D9: 4357 | E9: 4754 | F9: =(E9-C9)/C9 -> -0.14296016 | G9: =E9-C9 -> -793 | H9: =E9-D9 -> 397
A10: 10 | B10: GIDA ÜRÜNLERİ İMALATI | C10: 328314 | D10: 331010 | E10: 330752 | F10: =(E10-C10)/C10 -> 0.007425818 | G10: =E10-C10 -> 2438 | H10: =E10-D10 -> -258
A11: 11 | B11: İÇECEK İMALATI | C11: 13460 | D11: 13350 | E11: 13504 | F11: =(E11-C11)/C11 -> 0.003268945 | G11: =E11-C11 -> 44 | H11: =E11-D11 -> 154
A12: 12 | B12: TÜTÜN ÜRÜNLERİ İMALATI | C12: 948 | D12: 1243 | E12: 1106 | F12: =(E12-C12)/C12 -> 0.16666667 | G12: =E12-C12 -> 158 | H12: =E12-D12 -> -137
A13: 13 | B13: TEKSTİL ÜRÜNLERİ İMALATI | C13: 278990 | D13: 270679 | E13: 270874 | F13: =(E13-C13)/C13 -> -0.029090648 | G13: =E13-C13 -> -8116 | H13: =E13-D13 -> 195
... A89: 99 | B89: ULUSLARARASI ÖRGÜT VE TEMS.FA. | C89: 3398 | D89: 3972 | E89: 3972 | F89: =(E89-C89)/C89 -> 0.1689229 | G89: =E89-C89 -> 574 | H89: =E89-D89 -> 0
A90: T O P L A M | C90: 10957074 | D90: 11010732 | E90: 11169776 | F90: =(E90-C90)/C90 -> 0.019412299 | G90: =E90-C90 -> 212702 | H90: =E90-D90 -> 159044
