Workbook

Sheet Endeksler
A1: Aylar | B1: 4/a | C1: 4/a_endeks | D1: 4/b Esnaf | E1: Esnaf (4/b) Endeks | F1: 4/b Tarım | G1: 4/b_Tarım_endeks | H1: 4/c | I1: 4/c_endeks
A2: 39722 | B2: 9119936 | C2: =(B2/$B$2)*100 -> 100 | D2: 1910373 | E2: =(D2/$D$2)*100 -> 100 | F2: 1137405 | G2: =(F2/$F$2)*100 -> 100 | H2: 2187772 | I2: =(H2/$H$2)*100 -> 100
A3: 39753 | B3: 9022823 | C3: =(B3/$B$2)*100 -> 98.935157 | D3: 1911654 | E3: =(D3/$D$2)*100 -> 100.06705 | F3: 1140518 | G3: =(F3/$F$2)*100 -> 100.27369 | H3: 2199425 | I3: =(H3/$H$2)*100 -> 100.53264
A4: 39783 | B4: 8802989 | C4: =(B4/$B$2)*100 -> 96.52468 | D4: 1897864 | E4: =(D4/$D$2)*100 -> 99.345206 | F4: 1141467 | G4: =(F4/$F$2)*100 -> 100.35713 | H4: 2205676 | I4: =(H4/$H$2)*100 -> 100.81837
A5: 39814 | B5: 8481011 | C5: =(B5/$B$2)*100 -> 92.994194 | D5: 1912296 | E5: =(D5/$D$2)*100 -> 100.10066 | F5: 1144082 | G5: =(F5/$F$2)*100 -> 100.58704 | H5: 2208984 | I5: =(H5/$H$2)*100 -> 100.96957
A6: 39845 | B6: 8362290 | C6: =(B6/$B$2)*100 -> 91.69242 | D6: 1918636 | E6: =(D6/$D$2)*100 -> 100.43253 | F6: 1146634 | G6: =(F6/$F$2)*100 -> 100.81141 | H6: 2213460 | I6: =(H6/$H$2)*100 -> 101.17416
A7: 39873 | B7: 8410234 | C7: =(B7/$B$2)*100 -> 92.218125 | D7: 1916016 | E7: =(D7/$D$2)*100 -> 100.29539 | F7: 1150295 | G7: =(F7/$F$2)*100 -> 101.13328 | H7: 2279020 | I7: =(H7/$H$2)*100 -> 104.17082
A8: 39904 | B8: 8503053 | C8: =(B8/$B$2)*100 -> 93.235885 | D8: 1931510 | E8: =(D8/$D$2)*100 -> 101.10643 | F8: 1149546 | G8: =(F8/$F$2)*100 -> 101.06743 | H8: 2271908 | I8: =(H8/$H$2)*100 -> 103.84574
A9: 39934 | B9: 8674726 | C9: =(B9/$B$2)*100 -> 95.118277 | D9: 1945342 | E9: =(D9/$D$2)*100 -> 101.83048 | F9: 1153672 | G9: =(F9/$F$2)*100 -> 101.43019 | H9: 2270276 | I9: =(H9/$H$2)*100 -> 103.77114
A10: 39965 | B10: 8922743 | C10: =(B10/$B$2)*100 -> 97.837781 | D10: 1894680 | E10: =(D10/$D$2)*100 -> 99.178537 | F10: 1158562 | G10: =(F10/$F$2)*100 -> 101.86011 | H10: 2271485 | I10: =(H10/$H$2)*100 -> 103.8264
A11: 39995 | B11: 9013349 | C11: =(B11/$B$2)*100 -> 98.831275 | D11: 1830370 | E11: =(D11/$D$2)*100 -> 95.812179 | F11: 1049015 | G11: =(F11/$F$2)*100 -> 92.228802 | H11: 2260614 | I11: =(H11/$H$2)*100 -> 103.32951
A12: 40026 | B12: 8977653 | C12: =(B12/$B$2)*100 -> 98.439868 | D12: 1786003 | E12: =(D12/$D$2)*100 -> 93.489753 | F12: 1053385 | G12: =(F12/$F$2)*100 -> 92.613009 | H12: 2248048 | I12: =(H12/$H$2)*100 -> 102.75513
A13: 40057 | B13: 8950211 | C13: =(B13/$B$2)*100 -> 98.138967 | D13: 1820914 | E13: =(D13/$D$2)*100 -> 95.317197 | F13: 1059182 | G13: =(F13/$F$2)*100 -> 93.122678 | H13: 2262750 | I13: =(H13/$H$2)*100 -> 103.42714
... A83: 42186 | B83: 13891275 | C83: =(B83/$B$2)*100 -> 152.31768 | D83: 2010252 | E83: =(D83/$D$2)*100 -> 105.22825 | F83: 828946 | G83: =(F83/$F$2)*100 -> 72.88046 | H83: 2948014 | I83: =(H83/$H$2)*100 -> 134.7496

Sheet 4a_Sektör
A1: FAALİYET KODU | B1: FAALİYET GRUPLARI | C1: 41821 | D1: 42156 | E1: 42186 | F1: Sektörün payı (Temmuz 2015) | G1: Çalışan Sayısında Değişim (Temmuz 2015 - Temmuz 2014) | H1: Çalışan Sayısındaki Fark (Temmuz 2015 - Temmuz 2014) | I1: Artışta Sektörün Payı (%) (Temmuz 2015) | J1: Çalışan Sayısındaki Fark (Temmuz 2015 - Haziran 2015)
A2: 1 | B2: BİTKİSEL VE HAYVANSAL ÜRETİM | C2: 105133 | D2: 113931 | E2: 116744 | F2: =E2/$E$90 -> 0.0084041242 | G2: =(E2-C2)/C2 -> 0.11044106 | H2: =E2-C2 -> 11611 | I2: =H2/$H$90 -> 0.014856945 | J2: =E2-D2 -> 2813
A3: 2 | B3: ORMANCILIK VE TOMRUKÇULUK | C3: 34955 | D3: 104182 | E3: 97717 | F3: =E3/$E$90 -> 0.0070344155 | G3: =(E3-C3)/C3 -> 1.7955085 | H3: =E3-C3 -> 62762 | I3: =H3/$H$90 -> 0.080307606 | J3: =E3-D3 -> -6465
A4: 3 | B4: BALIKÇILIK VE SU ÜRÜNLERİ YETİŞ. | C4: 7636 | D4: 7287 | E4: 7391 | F4: =E4/$E$90 -> 0.00053206059 | G4: =(E4-C4)/C4 -> -0.032084861 | H4: =E4-C4 -> -245 | I4: =H4/$H$90 -> -0.00031349166 | J4: =E4-D4 -> 104
A5: 5 | B5: KÖMÜR VE LİNYİT ÇIKARTILMASI | C5: 53345 | D5: 31533 | E5: 28242 | F5: =E5/$E$90 -> 0.0020330747 | G5: =(E5-C5)/C5 -> -0.47057831 | H5: =E5-C5 -> -25103 | I5: =H5/$H$90 -> -0.032120739 | J5: =E5-D5 -> -3291
A6: 6 | B6: HAM PETROL VE DOĞALGAZ ÇIKARIMI | C6: 3271 | D6: 1509 | E6: 2289 | F6: =E6/$E$90 -> 0.00016477969 | G6: =(E6-C6)/C6 -> -0.300214 | H6: =E6-C6 -> -982 | I6: =H6/$H$90 -> -0.0012565257 | J6: =E6-D6 -> 780
A7: 7 | B7: METAL CEVHERİ MADENCİLİĞİ | C7: 25452 | D7: 24661 | E7: 24628 | F7: =E7/$E$90 -> 0.0017729114 | G7: =(E7-C7)/C7 -> -0.032374666 | H7: =E7-C7 -> -824 | I7: =H7/$H$90 -> -0.0010543556 | J7: =E7-D7 -> -33
A8: 8 | B8: DİĞER MADENCİLİK VE TAŞ OCAKÇILIĞI | C8: 60517 | D8: 64229 | E8: 64902 | F8: =E8/$E$90 -> 0.0046721413 | G8: =(E8-C8)/C8 -> 0.072458978 | H8: =E8-C8 -> 4385 | I8: =H8/$H$90 -> 0.0056108609 | J8: =E8-D8 -> 673
A9: 9 | B9: MADENCİLİĞİ DESTEKLEYİCİ HİZMET | C9: 10658 | D9: 8327 | E9: 9014 | F9: =E9/$E$90 -> 0.00064889652 | G9: =(E9-C9)/C9 -> -0.15425033 | H9: =E9-C9 -> -1644 | I9: =H9/$H$90 -> -0.002103593 | J9: =E9-D9 -> 687
A10: 10 | B10: GIDA ÜRÜNLERİ İMALATI | C10: 427800 | D10: 434847 | E10: 437545 | F10: =E10/$E$90 -> 0.031497829 | G10: =(E10-C10)/C10 -> 0.022779336 | H10: =E10-C10 -> 9745 | I10: =H10/$H$90 -> 0.012469291 | J10: =E10-D10 -> 2698
A11: 11 | B11: İÇECEK İMALATI | C11: 15041 | D11: 15785 | E11: 15915 | F11: =E11/$E$90 -> 0.0011456832 | G11: =(E11-C11)/C11 -> 0.058107839 | H11: =E11-C11 -> 874 | I11: =H11/$H$90 -> 0.0011183335 | J11: =E11-D11 -> 130
A12: 12 | B12: TÜTÜN ÜRÜNLERİ İMALATI | C12: 3212 | D12: 4062 | E12: 3509 | F12: =E12/$E$90 -> 0.0002526046 | G12: =(E12-C12)/C12 -> 0.092465753 | H12: =E12-C12 -> 297 | I12: =H12/$H$90 -> 0.00038002866 | J12: =E12-D12 -> -553
A13: 13 | B13: TEKSTİL ÜRÜNLERİ İMALATI | C13: 435675 | D13: 424270 | E13: 418688 | F13: =E13/$E$90 -> 0.030140358 | G13: =(E13-C13)/C13 -> -0.038990073 | H13: =E13-C13 -> -16987 | I13: =H13/$H$90 -> -0.021735848 | J13: =E13-D13 -> -5582
... A89: 99 | B89: ULUSLARARASI ÖRGÜT VE TEMS.FA. | C89: 3624 | D89: 3999 | E89: 3957 | F89: =E89/$E$90 -> 0.00028485506 | G89: =(E89-C89)/C89 -> 0.091887417 | H89: =E89-C89 -> 333 | I89: =H89/$H$90 -> 0.00042609274 | J89: =E89-D89 -> -42
A90: T O P L A M | C90: 13109755 | D90: 14033585 | E90: 13891275 | F90: =E90/$E$90 -> 1 | G90: =(E90-C90)/C90 -> 0.059613624 | H90: =E90-C90 -> 781520 | I90: =H90/$H$90 -> 1 | J90: =E90-D90 -> -142310

Sheet 4a_İmalat_Sektör
A1: FAALİYET KODU | B1: FAALİYET GRUPLARI | C1: 41821 | D1: 42156 | E1: 42186 | F1: Sektörün payı (Temmuz 2015) | G1: Çalışan Sayısında Değişim (Temmuz 2015 - Temmuz 2014) | H1: Çalışan Sayısındaki Fark (Temmuz 2015 - Temmuz 2014) | I1: Artışta Sektörün Payı (%) (Temmuz 2015) | J1: Çalışan Sayısındaki Fark (Temmuz 2015 - Haziran 2015)
A2: 10 | B2: GIDA ÜRÜNLERİ İMALATI | C2: 427800 | D2: 434847 | E2: 437545 | F2: =E2/$E$26 -> 0.12234175 | G2: =(E2-C2)/C2 -> 0.022779336 | H2: =E2-C2 -> 9745 | I2: =H2/$H$26 -> 0.22878272 | J2: =E2-D2 -> 2698
A3: 11 | B3: İÇECEK İMALATI | C3: 15041 | D3: 15785 | E3: 15915 | F3: =E3/$E$26 -> 0.0044499857 | G3: =(E3-C3)/C3 -> 0.058107839 | H3: =E3-C3 -> 874 | I3: =H3/$H$26 -> 0.02051884 | J3: =E3-D3 -> 130
A4: 12 | B4: TÜTÜN ÜRÜNLERİ İMALATI | C4: 3212 | D4: 4062 | E4: 3509 | F4: =E4/$E$26 -> 0.00098114984 | G4: =(E4-C4)/C4 -> 0.092465753 | H4: =E4-C4 -> 297 | I4: =H4/$H$26 -> 0.0069726494 | J4: =E4-D4 -> -553
A5: 13 | B5: TEKSTİL ÜRÜNLERİ İMALATI | C5: 435675 | D5: 424270 | E5: 418688 | F5: =E5/$E$26 -> 0.11706916 | G5: =(E5-C5)/C5 -> -0.038990073 | H5: =E5-C5 -> -16987 | I5: =H5/$H$26 -> -0.39880268 | J5: =E5-D5 -> -5582
A6: 14 | B6: GİYİM EŞYALARI İMALATI | C6: 487739 | D6: 485501 | E6: 479179 | F6: =E6/$E$26 -> 0.13398302 | G6: =(E6-C6)/C6 -> -0.01755037 | H6: =E6-C6 -> -8560 | I6: =H6/$H$26 -> -0.20096255 | J6: =E6-D6 -> -6322
A7: 15 | B7: DERİ VE İLGİLİ ÜRÜNLER İMALATI | C7: 64314 | D7: 62292 | E7: 61368 | F7: =E7/$E$26 -> 0.017159078 | G7: =(E7-C7)/C7 -> -0.045806512 | H7: =E7-C7 -> -2946 | I7: =H7/$H$26 -> -0.069163047 | J7: =E7-D7 -> -924
A8: 16 | B8: AĞAÇ,AĞAÇ ÜRÜNLERİ VE MANTAR ÜR. | C8: 66709 | D8: 70434 | E8: 66461 | F8: =E8/$E$26 -> 0.018583129 | G8: =(E8-C8)/C8 -> -0.0037176393 | H8: =E8-C8 -> -248 | I8: =H8/$H$26 -> -0.0058222796 | J8: =E8-D8 -> -3973
A9: 17 | B9: KAĞIT VE KAĞIT ÜRÜNLERİ İMALATI | C9: 48462 | D9: 52059 | E9: 51191 | F9: =E9/$E$26 -> 0.014313491 | G9: =(E9-C9)/C9 -> 0.056312162 | H9: =E9-C9 -> 2729 | I9: =H9/$H$26 -> 0.064068553 | J9: =E9-D9 -> -868
A10: 18 | B10: KAYITLI MEDYANIN BASILMASI VE ÇOĞ. | C10: 64311 | D10: 63266 | E10: 63060 | F10: =E10/$E$26 -> 0.017632177 | G10: =(E10-C10)/C10 -> -0.019452349 | H10: =E10-C10 -> -1251 | I10: =H10/$H$26 -> -0.029369644 | J10: =E10-D10 -> -206
A11: 19 | B11: KOK KÖMÜRÜ VE PETROL ÜRÜNLERİ İM. | C11: 7985 | D11: 7764 | E11: 7781 | F11: =E11/$E$26 -> 0.0021756418 | G11: =(E11-C11)/C11 -> -0.025547902 | H11: =E11-C11 -> -204 | I11: =H11/$H$26 -> -0.0047892945 | J11: =E11-D11 -> 17
A12: 20 | B12: KİMYASAL ÜRÜNLERİ İMALATI | C12: 70829 | D12: 74083 | E12: 73715 | F12: =E12/$E$26 -> 0.020611417 | G12: =(E12-C12)/C12 -> 0.040746022 | H12: =E12-C12 -> 2886 | I12: =H12/$H$26 -> 0.067754431 | J12: =E12-D12 -> -368
A13: 21 | B13: ECZACILIK VE ECZ.İLİŞKİN MALZ.İMAL. | C13: 18116 | D13: 19195 | E13: 19266 | F13: =E13/$E$26 -> 0.0053869572 | G13: =(E13-C13)/C13 -> 0.063479797 | H13: =E13-C13 -> 1150 | I13: =H13/$H$26 -> 0.026998474 | J13: =E13-D13 -> 71
... A25: 33 | B25: MAKİNE VE EKİPMAN.KURULUMU VE ONAR. | C25: 168391 | D25: 162045 | E25: 162224 | F25: =E25/$E$26 -> 0.045359377 | G25: =(E25-C25)/C25 -> -0.036623097 | H25: =E25-C25 -> -6167 | I25: =H25/$H$26 -> -0.14478225 | J25: =E25-D25 -> 179
A26: İMALAT T O P L A M | C26: 3533821 | D26: 3588667 | E26: 3576416 | F26: =E26/$E$26 -> 1 | G26: =(E26-C26)/C26 -> 0.012053525 | H26: =E26-C26 -> 42595 | I26: =H26/$H$26 -> 1 | J26: =E26-D26 -> -12251

Sheet 4a_İşyeri_Sektör
A1: FAALİYET KODU | B1: FAALİYET GRUPLARI | C1: 41821 | D1: 42156 | E1: 42186 | F1: Sektörün payı (Temmuz 2015) | G1: İşyeri Sayısında Değişim (Temmuz 2015 - Temmuz 2014) | H1: İşyeri Sayısındaki Fark (Temmuz 2015 - Temmuz 2014) | I1: Artışta Sektörün Payı (%) (Temmuz 2015) | J1: İşyeri Sayısındaki Fark (Temmuz 2015 - Haziran 2015)
A2: 1 | B2: BİTKİSEL VE HAYVANSAL ÜRETİM | C2: 14845 | D2: 16102 | E2: 16242 | F2: =E2/$E$90 -> 0.0095799667 | G2: =(E2-C2)/C2 -> 0.09410576 | H2: =E2-C2 -> 1397 | I2: =H2/$H$90 -> 0.020486274 | J2: =E2-D2 -> 140
A3: 2 | B3: ORMANCILIK VE TOMRUKÇULUK | C3: 2533 | D3: 3106 | E3: 3180 | F3: =E3/$E$90 -> 0.0018756492 | G3: =(E3-C3)/C3 -> 0.25542835 | H3: =E3-C3 -> 647 | I3: =H3/$H$90 -> 0.0094879165 | J3: =E3-D3 -> 74
A4: 3 | B4: BALIKÇILIK VE SU ÜRÜNLERİ YETİŞ. | C4: 1123 | D4: 1132 | E4: 1128 | F4: =E4/$E$90 -> 0.00066532461 | G4: =(E4-C4)/C4 -> 0.0044523598 | H4: =E4-C4 -> 5 | I4: =H4/$H$90 -> 7.3322384e-05 | J4: =E4-D4 -> -4
A5: 5 | B5: KÖMÜR VE LİNYİT ÇIKARTILMASI | C5: 724 | D5: 631 | E5: 620 | F5: =E5/$E$90 -> 0.00036569261 | G5: =(E5-C5)/C5 -> -0.14364641 | H5: =E5-C5 -> -104 | I5: =H5/$H$90 -> -0.0015251056 | J5: =E5-D5 -> -11
A6: 6 | B6: HAM PETROL VE DOĞALGAZ ÇIKARIMI | C6: 52 | D6: 38 | E6: 45 | F6: =E6/$E$90 -> 2.6542205e-05 | G6: =(E6-C6)/C6 -> -0.13461538 | H6: =E6-C6 -> -7 | I6: =H6/$H$90 -> -0.00010265134 | J6: =E6-D6 -> 7
A7: 7 | B7: METAL CEVHERİ MADENCİLİĞİ | C7: 941 | D7: 924 | E7: 928 | F7: =E7/$E$90 -> 0.00054735926 | G7: =(E7-C7)/C7 -> -0.01381509 | H7: =E7-C7 -> -13 | I7: =H7/$H$90 -> -0.0001906382 | J7: =E7-D7 -> 4
A8: 8 | B8: DİĞER MADENCİLİK VE TAŞ OCAKÇILIĞI | C8: 4574 | D8: 4718 | E8: 4740 | F8: =E8/$E$90 -> 0.002795779 | G8: =(E8-C8)/C8 -> 0.036292086 | H8: =E8-C8 -> 166 | I8: =H8/$H$90 -> 0.0024343031 | J8: =E8-D8 -> 22
A9: 9 | B9: MADENCİLİĞİ DESTEKLEYİCİ HİZMET | C9: 466 | D9: 468 | E9: 475 | F9: =E9/$E$90 -> 0.00028016772 | G9: =(E9-C9)/C9 -> 0.019313305 | H9: =E9-C9 -> 9 | I9: =H9/$H$90 -> 0.00013198029 | J9: =E9-D9 -> 7
A10: 10 | B10: GIDA ÜRÜNLERİ İMALATI | C10: 41303 | D10: 41899 | E10: 41713 | F10: =E10/$E$90 -> 0.024603445 | G10: =(E10-C10)/C10 -> 0.0099266397 | H10: =E10-C10 -> 410 | I10: =H10/$H$90 -> 0.0060124355 | J10: =E10-D10 -> -186
A11: 11 | B11: İÇECEK İMALATI | C11: 637 | D11: 649 | E11: 645 | F11: =E11/$E$90 -> 0.00038043828 | G11: =(E11-C11)/C11 -> 0.01255887 | H11: =E11-C11 -> 8 | I11: =H11/$H$90 -> 0.00011731581 | J11: =E11-D11 -> -4
A12: 12 | B12: TÜTÜN ÜRÜNLERİ İMALATI | C12: 46 | D12: 45 | E12: 46 | F12: =E12/$E$90 -> 2.7132032e-05 | G12: =(E12-C12)/C12 -> 0 | H12: =E12-C12 -> 0 | I12: =H12/$H$90 -> 0 | J12: =E12-D12 -> 1
A13: 13 | B13: TEKSTİL ÜRÜNLERİ İMALATI | C13: 17627 | D13: 17255 | E13: 17124 | F13: =E13/$E$90 -> 0.010100194 | G13: =(E13-C13)/C13 -> -0.028535769 | H13: =E13-C13 -> -503 | I13: =H13/$H$90 -> -0.0073762318 | J13: =E13-D13 -> -131
... A89: 99 | B89: ULUSLARARASI ÖRGÜT VE TEMS.FA. | C89: 497 | D89: 492 | E89: 489 | F89: =E89/$E$90 -> 0.0002884253 | G89: =(E89-C89)/C89 -> -0.016096579 | H89: =E89-C89 -> -8 | I89: =H89/$H$90 -> -0.00011731581 | J89: =E89-D89 -> -3
A90: T O P L A M | C90: 1627221 | D90: 1721293 | E90: 1695413 | F90: =E90/$E$90 -> 1 | G90: =(E90-C90)/C90 -> 0.04190703 | H90: =E90-C90 -> 68192 | I90: =H90/$H$90 -> 1 | J90: =E90-D90 -> -25880

Sheet 4a_İl
A1: İL KODU | B1: İLLER | C1: 41821 | D1: 42156 | E1: 42186 | F1: İlin Payı (Temmuz 2015) | G1: Çalışan Sayısında Değişim (Temmuz 2015 - Temmuz 2014) | H1: Çalışan Sayısındaki Fark (Temmuz 2015 - Temmuz 2014) | I1: Artışta İlin Payı (%) (Temmuz 2015) | J1: Çalışan Sayısındaki Fark (Temmuz 2015 - Haziran 2015)
A2: 1 | B2: ADANA | C2: 275329 | D2: 292357 | E2: 291832 | F2: =E2/$E$83 -> 0.021008295 | G2: =(E2-C2)/C2 -> 0.0599392 | H2: =E2-C2 -> 16503 | I2: =H2/$H$83 -> 0.021116542 | J2: =E2-D2 -> -525
A3: 2 | B3: ADIYAMAN | C3: 40333 | D3: 45164 | E3: 41411 | F3: =E3/$E$83 -> 0.0029810799 | G3: =(E3-C3)/C3 -> 0.026727494 | H3: =E3-C3 -> 1078 | I3: =H3/$H$83 -> 0.0013793633 | J3: =E3-D3 -> -3753
A4: 3 | B4: AFYONKARAHİSAR | C4: 84562 | D4: 88300 | E4: 91688 | F4: =E4/$E$83 -> 0.0066004021 | G4: =(E4-C4)/C4 -> 0.08426953 | H4: =E4-C4 -> 7126 | I4: =H4/$H$83 -> 0.0091181288 | J4: =E4-D4 -> 3388
A5: 4 | B5: AĞRI | C5: 19034 | D5: 24379 | E5: 21080 | F5: =E5/$E$83 -> 0.0015174993 | G5: =(E5-C5)/C5 -> 0.10749186 | H5: =E5-C5 -> 2046 | I5: =H5/$H$83 -> 0.0026179752 | J5: =E5-D5 -> -3299
A6: 5 | B6: AMASYA | C6: 39445 | D6: 42683 | E6: 41906 | F6: =E6/$E$83 -> 0.0030167137 | G6: =(E6-C6)/C6 -> 0.062390671 | H6: =E6-C6 -> 2461 | I6: =H6/$H$83 -> 0.0031489917 | J6: =E6-D6 -> -777
A7: 6 | B7: ANKARA | C7: 1083287 | D7: 1184766 | E7: 1181998 | F7: =E7/$E$83 -> 0.085089238 | G7: =(E7-C7)/C7 -> 0.091121743 | H7: =E7-C7 -> 98711 | I7: =H7/$H$83 -> 0.12630643 | J7: =E7-D7 -> -2768
A8: 7 | B8: ANTALYA | C8: 567792 | D8: 602333 | E8: 591939 | F8: =E8/$E$83 -> 0.042612287 | G8: =(E8-C8)/C8 -> 0.042527898 | H8: =E8-C8 -> 24147 | I8: =H8/$H$83 -> 0.030897482 | J8: =E8-D8 -> -10394
A9: 8 | B9: ARTVİN | C9: 23368 | D9: 24988 | E9: 23293 | F9: =E9/$E$83 -> 0.0016768079 | G9: =(E9-C9)/C9 -> -0.0032095173 | H9: =E9-C9 -> -75 | I9: =H9/$H$83 -> -9.5966834e-05 | J9: =E9-D9 -> -1695
A10: 9 | B10: AYDIN | C10: 144294 | D10: 156489 | E10: 162157 | F10: =E10/$E$83 -> 0.011673299 | G10: =(E10-C10)/C10 -> 0.12379586 | H10: =E10-C10 -> 17863 | I10: =H10/$H$83 -> 0.022856741 | J10: =E10-D10 -> 5668
A11: 10 | B11: BALIKESİR | C11: 155654 | D11: 171694 | E11: 169346 | F11: =E11/$E$83 -> 0.012190818 | G11: =(E11-C11)/C11 -> 0.087964331 | H11: =E11-C11 -> 13692 | I11: =H11/$H$83 -> 0.017519705 | J11: =E11-D11 -> -2348
A12: 11 | B12: BİLECİK | C12: 42108 | D12: 43610 | E12: 43231 | F12: =E12/$E$83 -> 0.0031120973 | G12: =(E12-C12)/C12 -> 0.026669516 | H12: =E12-C12 -> 1123 | I12: =H12/$H$83 -> 0.0014369434 | J12: =E12-D12 -> -379
A13: 12 | B13: BİNGÖL | C13: 18996 | D13: 25153 | E13: 22662 | F13: =E13/$E$83 -> 0.0016313837 | G13: =(E13-C13)/C13 -> 0.192988 | H13: =E13-C13 -> 3666 | I13: =H13/$H$83 -> 0.0046908588 | J13: =E13-D13 -> -2491
... A82: 81 | B82: DÜZCE | C82: 67860 | D82: 73428 | E82: 76147 | F82: =E82/$E$83 -> 0.0054816423 | G82: =(E82-C82)/C82 -> 0.12211907 | H82: =E82-C82 -> 8287 | I82: =H82/$H$83 -> 0.010603695 | J82: =E82-D82 -> 2719
A83: TOPLAM | C83: 13109755 | D83: 14033585 | E83: 13891275 | F83: =E83/$E$83 -> 1 | G83: =(E83-C83)/C83 -> 0.059613624 | H83: =E83-C83 -> 781520 | I83: =H83/$H$83 -> 1 | J83: =E83-D83 -> -142310

Sheet 4b_Esnaf_İl
A1: İL KODU | B1: İLLER | C1: 41821 | D1: 42156 | E1: 42186 | F1: İlin Payı (Temmuz 2015) | G1: Esnaf Sayısında Değişim (Temmuz 2015 - Temmuz 2014) | H1: Esnaf Sayısındaki Fark (Temmuz 2015 - Temmuz 2014) | I1: Artışta İlin Payı (%) (Temmuz 2015) | J1: Esnaf Sayısındaki Fark (Temmuz 2015 - Haziran 2015)
A2: 1 | B2: ADANA | C2: 46676 | D2: 51409 | E2: 52089 | F2: =E2/$E$83 -> 0.025911677 | G2: =(E2-C2)/C2 -> 0.11596966 | H2: =E2-C2 -> 5413 | I2: =H2/$H$83 -> 0.087745178 | J2: =E2-D2 -> 680
A3: 2 | B3: ADIYAMAN | C3: 10953 | D3: 11184 | E3: 11307 | F3: =E3/$E$83 -> 0.005624668 | G3: =(E3-C3)/C3 -> 0.032319912 | H3: =E3-C3 -> 354 | I3: =H3/$H$83 -> 0.0057383693 | J3: =E3-D3 -> 123
A4: 3 | B4: AFYONKARAHİSAR | C4: 16680 | D4: 16838 | E4: 16958 | F4: =E4/$E$83 -> 0.0084357583 | G4: =(E4-C4)/C4 -> 0.016666667 | H4: =E4-C4 -> 278 | I4: =H4/$H$83 -> 0.004506403 | J4: =E4-D4 -> 120
A5: 4 | B5: AĞRI | C5: 5517 | D5: 5523 | E5: 5585 | F5: =E5/$E$83 -> 0.0027782586 | G5: =(E5-C5)/C5 -> 0.012325539 | H5: =E5-C5 -> 68 | I5: =H5/$H$83 -> 0.0011022856 | J5: =E5-D5 -> 62
A6: 5 | B6: AMASYA | C6: 7662 | D6: 7472 | E6: 7514 | F6: =E6/$E$83 -> 0.0037378398 | G6: =(E6-C6)/C6 -> -0.019316105 | H6: =E6-C6 -> -148 | I6: =H6/$H$83 -> -0.0023990922 | J6: =E6-D6 -> 42
A7: 6 | B7: ANKARA | C7: 126699 | D7: 129616 | E7: 129725 | F7: =E7/$E$83 -> 0.06453171 | G7: =(E7-C7)/C7 -> 0.023883377 | H7: =E7-C7 -> 3026 | I7: =H7/$H$83 -> 0.04905171 | J7: =E7-D7 -> 109
A8: 7 | B8: ANTALYA | C8: 84931 | D8: 88686 | E8: 89910 | F8: =E8/$E$83 -> 0.044725736 | G8: =(E8-C8)/C8 -> 0.05862406 | H8: =E8-C8 -> 4979 | I8: =H8/$H$83 -> 0.080710002 | J8: =E8-D8 -> 1224
A9: 8 | B9: ARTVİN | C9: 4484 | D9: 4448 | E9: 4457 | F9: =E9/$E$83 -> 0.002217135 | G9: =(E9-C9)/C9 -> -0.0060214095 | H9: =E9-C9 -> -27 | I9: =H9/$H$83 -> -0.00043767223 | J9: =E9-D9 -> 9
A10: 9 | B10: AYDIN | C10: 35037 | D10: 35139 | E10: 35431 | F10: =E10/$E$83 -> 0.017625153 | G10: =(E10-C10)/C10 -> 0.011245255 | H10: =E10-C10 -> 394 | I10: =H10/$H$83 -> 0.0063867726 | J10: =E10-D10 -> 292
A11: 10 | B11: BALIKESİR | C11: 36348 | D11: 35174 | E11: 35549 | F11: =E11/$E$83 -> 0.017683853 | G11: =(E11-C11)/C11 -> -0.021981952 | H11: =E11-C11 -> -799 | I11: =H11/$H$83 -> -0.012951856 | J11: =E11-D11 -> 375
A12: 11 | B12: BİLECİK | C12: 4130 | D12: 4054 | E12: 4064 | F12: =E12/$E$83 -> 0.0020216371 | G12: =(E12-C12)/C12 -> -0.01598063 | H12: =E12-C12 -> -66 | I12: =H12/$H$83 -> -0.0010698655 | J12: =E12-D12 -> 10
A13: 12 | B13: BİNGÖL | C13: 2811 | D13: 2997 | E13: 3040 | F13: =E13/$E$83 -> 0.0015122482 | G13: =(E13-C13)/C13 -> 0.081465671 | H13: =E13-C13 -> 229 | I13: =H13/$H$83 -> 0.0037121089 | J13: =E13-D13 -> 43
... A82: 81 | B82: DÜZCE | C82: 8371 | D82: 8625 | E82: 8762 | F82: =E82/$E$83 -> 0.0043586575 | G82: =(E82-C82)/C82 -> 0.046708876 | H82: =E82-C82 -> 391 | I82: =H82/$H$83 -> 0.0063381423 | J82: =E82-D82 -> 137
A83: TOPLAM | C83: 1948562 | D83: 1996411 | E83: 2010252 | F83: =E83/$E$83 -> 1 | G83: =(E83-C83)/C83 -> 0.031659244 | H83: =E83-C83 -> 61690 | I83: =H83/$H$83 -> 1 | J83: =E83-D83 -> 13841

Sheet 4b_Tarım_İl
A1: İL KODU | B1: İLLER | C1: 41821 | D1: 42156 | E1: 42186 | F1: İlin Payı (Temmuz 2015) | G1: Çiftçi Sayısında Değişim (Temmuz 2015 -Temmuz 2014) | H1: Çiftçi Sayısındaki Fark (Temmuz 2015 - Temmuz 2014) | I1: Artışta İlin Payı (%) (Temmuz 2015) | J1: Çiftçi Sayısındaki Fark (Temmuz 2015 - Haziran 2015)
A2: 1 | B2: ADANA | C2: 19613 | D2: 18311 | E2: 18186 | F2: =E2/864468 -> 0.021037216 | G2: =(E2-C2)/C2 -> -0.072757865 | H2: =E2-C2 -> -1427 | I2: =H2/$H$83 -> 0.014500706 | J2: =E2-D2 -> -125
A3: 2 | B3: ADIYAMAN | C3: 6561 | D3: 6107 | E3: 6070 | F3: =E3/864468 -> 0.0070216596 | G3: =(E3-C3)/C3 -> -0.074836153 | H3: =E3-C3 -> -491 | I3: =H3/$H$83 -> 0.0049893811 | J3: =E3-D3 -> -37
A4: 3 | B4: AFYONKARAHİSAR | C4: 20201 | D4: 19043 | E4: 18971 | F4: =E4/864468 -> 0.021945289 | G4: =(E4-C4)/C4 -> -0.060888075 | H4: =E4-C4 -> -1230 | I4: =H4/$H$83 -> 0.012498857 | J4: =E4-D4 -> -72
A5: 4 | B5: AĞRI | C5: 3954 | D5: 3696 | E5: 3674 | F5: =E5/864468 -> 0.0042500127 | G5: =(E5-C5)/C5 -> -0.070814365 | H5: =E5-C5 -> -280 | I5: =H5/$H$83 -> 0.0028452682 | J5: =E5-D5 -> -22
A6: 5 | B6: AMASYA | C6: 6488 | D6: 5770 | E6: 5727 | F6: =E6/864468 -> 0.0066248837 | G6: =(E6-C6)/C6 -> -0.11729346 | H6: =E6-C6 -> -761 | I6: =H6/$H$83 -> 0.0077330325 | J6: =E6-D6 -> -43
A7: 6 | B7: ANKARA | C7: 20353 | D7: 17198 | E7: 17070 | F7: =E7/864468 -> 0.019746249 | G7: =(E7-C7)/C7 -> -0.161303 | H7: =E7-C7 -> -3283 | I7: =H7/$H$83 -> 0.03336077 | J7: =E7-D7 -> -128
A8: 7 | B8: ANTALYA | C8: 44759 | D8: 42568 | E8: 42259 | F8: =E8/864468 -> 0.048884401 | G8: =(E8-C8)/C8 -> -0.055854688 | H8: =E8-C8 -> -2500 | I8: =H8/$H$83 -> 0.025404181 | J8: =E8-D8 -> -309
A9: 8 | B9: ARTVİN | C9: 1857 | D9: 1579 | E9: 1572 | F9: =E9/864468 -> 0.0018184594 | G9: =(E9-C9)/C9 -> -0.15347334 | H9: =E9-C9 -> -285 | I9: =H9/$H$83 -> 0.0028960766 | J9: =E9-D9 -> -7
A10: 9 | B10: AYDIN | C10: 26540 | D10: 23601 | E10: 23431 | F10: =E10/864468 -> 0.027104531 | G10: =(E10-C10)/C10 -> -0.11714393 | H10: =E10-C10 -> -3109 | I10: =H10/$H$83 -> 0.031592639 | J10: =E10-D10 -> -170
A11: 10 | B11: BALIKESİR | C11: 29756 | D11: 27342 | E11: 27084 | F11: =E11/864468 -> 0.031330252 | G11: =(E11-C11)/C11 -> -0.089797016 | H11: =E11-C11 -> -2672 | I11: =H11/$H$83 -> 0.027151988 | J11: =E11-D11 -> -258
A12: 11 | B12: BİLECİK | C12: 2485 | D12: 2285 | E12: 2272 | F12: =E12/864468 -> 0.002628206 | G12: =(E12-C12)/C12 -> -0.085714286 | H12: =E12-C12 -> -213 | I12: =H12/$H$83 -> 0.0021644362 | J12: =E12-D12 -> -13
A13: 12 | B13: BİNGÖL | C13: 1173 | D13: 1003 | E13: 1003 | F13: =E13/864468 -> 0.0011602512 | G13: =(E13-C13)/C13 -> -0.14492754 | H13: =E13-C13 -> -170 | I13: =H13/$H$83 -> 0.0017274843 | J13: =E13-D13 -> 0
... A82: 81 | B82: DÜZCE | C82: 5504 | D82: 4743 | E82: 4770 | F82: =E82/864468 -> 0.0055178445 | G82: =(E82-C82)/C82 -> -0.13335756 | H82: =E82-C82 -> -734 | I82: =H82/$H$83 -> 0.0074586674 | J82: =E82-D82 -> 27
A83: TOPLAM | C83: 927355 | D83: 833523 | E83: 828946 | F83: =SUM(F2:F82) -> 0.95890883 | G83: =(E83-C83)/C83 -> -0.10611794 | H83: =SUM(H2:H82) -> -98409 | I83: =H83/$H$83 -> 1 | J83: =SUM(J2:J82) -> -4577

Sheet 4c_Kamu_İl 
A1: İL KODU | B1: İLLER | C1: 41821 | D1: 42156 | E1: 42186 | F1: İlin Payı (Temmuz 2015) | G1: Çalışan Sayısında Değişim (Temmuz 2015 - Temmuz 2014) | H1: Çalışan Sayısındaki Fark (Temmuz 2015 - Temmuz 2014) | I1: Artışta İlin Payı (%) (Temmuz 2015) | J1: Çalışan Sayısındaki Fark (Temmuz 2015 - Haziran 2015)
A2: 1 | B2: ADANA | C2: 69878 | D2: 71479 | E2: 71975 | F2: =E2/$E$83 -> 0.024414742 | G2: =(E2-C2)/C2 -> 0.030009445 | H2: =E2-C2 -> 2097 | I2: =H2/$H$83 -> 0.025200087 | J2: =E2-D2 -> 496
A3: 2 | B3: ADIYAMAN | C3: 20858 | D3: 21598 | E3: 21787 | F3: =E3/$E$83 -> 0.0073903991 | G3: =(E3-C3)/C3 -> 0.044539266 | H3: =E3-C3 -> 929 | I3: =H3/$H$83 -> 0.011163987 | J3: =E3-D3 -> 189
A4: 3 | B4: AFYONKARAHİSAR | C4: 27240 | D4: 27648 | E4: 27764 | F4: =E4/$E$83 -> 0.0094178657 | G4: =(E4-C4)/C4 -> 0.019236417 | H4: =E4-C4 -> 524 | I4: =H4/$H$83 -> 0.0062970173 | J4: =E4-D4 -> 116
A5: 4 | B5: AĞRI | C5: 17216 | D5: 18664 | E5: 18837 | F5: =E5/$E$83 -> 0.0063897254 | G5: =(E5-C5)/C5 -> 0.094156599 | H5: =E5-C5 -> 1621 | I5: =H5/$H$83 -> 0.019479895 | J5: =E5-D5 -> 173
A6: 5 | B6: AMASYA | C6: 16760 | D6: 17290 | E6: 17343 | F6: =E6/$E$83 -> 0.0058829436 | G6: =(E6-C6)/C6 -> 0.034785203 | H6: =E6-C6 -> 583 | I6: =H6/$H$83 -> 0.0070060326 | J6: =E6-D6 -> 53
A7: 6 | B7: ANKARA | C7: 393090 | D7: 391897 | E7: 394211 | F7: =E7/$E$83 -> 0.13372087 | G7: =(E7-C7)/C7 -> 0.0028517642 | H7: =E7-C7 -> 1121 | I7: =H7/$H$83 -> 0.013471291 | J7: =E7-D7 -> 2314
A8: 7 | B8: ANTALYA | C8: 65233 | D8: 68097 | E8: 69019 | F8: =E8/$E$83 -> 0.023412033 | G8: =(E8-C8)/C8 -> 0.05803811 | H8: =E8-C8 -> 3786 | I8: =H8/$H$83 -> 0.045497152 | J8: =E8-D8 -> 922
A9: 8 | B9: ARTVİN | C9: 9363 | D9: 9408 | E9: 9354 | F9: =E9/$E$83 -> 0.0031729836 | G9: =(E9-C9)/C9 -> -0.00096123037 | H9: =E9-C9 -> -9 | I9: =H9/$H$83 -> -0.00010815488 | J9: =E9-D9 -> -54
A10: 9 | B10: AYDIN | C10: 35658 | D10: 37386 | E10: 37274 | F10: =E10/$E$83 -> 0.012643766 | G10: =(E10-C10)/C10 -> 0.045319423 | H10: =E10-C10 -> 1616 | I10: =H10/$H$83 -> 0.019419809 | J10: =E10-D10 -> -112
A11: 10 | B11: BALIKESİR | C11: 47843 | D11: 49781 | E11: 50159 | F11: =E11/$E$83 -> 0.017014505 | G11: =(E11-C11)/C11 -> 0.048408336 | H11: =E11-C11 -> 2316 | I11: =H11/$H$83 -> 0.027831855 | J11: =E11-D11 -> 378
A12: 11 | B12: BİLECİK | C12: 8874 | D12: 9370 | E12: 9287 | F12: =E12/$E$83 -> 0.0031502564 | G12: =(E12-C12)/C12 -> 0.046540455 | H12: =E12-C12 -> 413 | I12: =H12/$H$83 -> 0.0049631072 | J12: =E12-D12 -> -83
A13: 12 | B13: BİNGÖL | C13: 13774 | D13: 14185 | E13: 14799 | F13: =E13/$E$83 -> 0.0050199897 | G13: =(E13-C13)/C13 -> 0.074415566 | H13: =E13-C13 -> 1025 | I13: =H13/$H$83 -> 0.012317639 | J13: =E13-D13 -> 614
... A82: 81 | B82: DÜZCE | C82: 12053 | D82: 12261 | E82: 12262 | F82: =E82/$E$83 -> 0.0041594104 | G82: =(E82-C82)/C82 -> 0.017340081 | H82: =E82-C82 -> 209 | I82: =H82/$H$83 -> 0.0025115966 | J82: =E82-D82 -> 1
A83: TOPLAM | C83: 2864800 | D83: 2936848 | E83: 2948014 | F83: =E83/$E$83 -> 1 | G83: =(E83-C83)/C83 -> 0.029047054 | H83: =E83-C83 -> 83214 | I83: =H83/$H$83 -> 1 | J83: =E83-D83 -> 11166

Sheet 4a_İşyeri_İl
A1: İL KODU | B1: İLLER | C1: 41821 | D1: 42156 | E1: 42186 | F1: İlin Payı (Temmuz 2015) | G1: İşyeri Sayısında Değişim (Temmuz 2015 - Temmuz 2014) | H1: İşyeri Sayısındaki Fark (Temmuz 2015 - Temmuz 2014) | I1: Artışta İlin Payı (%) (Temmuz 2015) | J1: İşyeri Sayısındaki Fark (Temmuz 2015 - Haziran 2015)
A2: 1 | B2: ADANA | C2: 37245 | D2: 39037 | E2: 38542 | F2: =E2/$E$83 -> 0.022733104 | G2: =(E2-C2)/C2 -> 0.034823466 | H2: =E2-C2 -> 1297 | I2: =H2/$H$83 -> 0.019019826 | J2: =E2-D2 -> -495
A3: 2 | B3: ADIYAMAN | C3: 5323 | D3: 6077 | E3: 5719 | F3: =E3/$E$83 -> 0.0033732194 | G3: =(E3-C3)/C3 -> 0.074394139 | H3: =E3-C3 -> 396 | I3: =H3/$H$83 -> 0.0058071328 | J3: =E3-D3 -> -358
A4: 3 | B4: AFYONKARAHİSAR | C4: 11217 | D4: 12044 | E4: 11793 | F4: =E4/$E$83 -> 0.0069558273 | G4: =(E4-C4)/C4 -> 0.051350629 | H4: =E4-C4 -> 576 | I4: =H4/$H$83 -> 0.0084467386 | J4: =E4-D4 -> -251
A5: 4 | B5: AĞRI | C5: 2062 | D5: 2404 | E5: 2179 | F5: =E5/$E$83 -> 0.0012852326 | G5: =(E5-C5)/C5 -> 0.056741028 | H5: =E5-C5 -> 117 | I5: =H5/$H$83 -> 0.0017157438 | J5: =E5-D5 -> -225
A6: 5 | B6: AMASYA | C6: 5222 | D6: 5640 | E6: 5479 | F6: =E6/$E$83 -> 0.003231661 | G6: =(E6-C6)/C6 -> 0.04921486 | H6: =E6-C6 -> 257 | I6: =H6/$H$83 -> 0.0037687705 | J6: =E6-D6 -> -161
A7: 6 | B7: ANKARA | C7: 129244 | D7: 135812 | E7: 134329 | F7: =E7/$E$83 -> 0.079230842 | G7: =(E7-C7)/C7 -> 0.039344186 | H7: =E7-C7 -> 5085 | I7: =H7/$H$83 -> 0.074568864 | J7: =E7-D7 -> -1483
A8: 7 | B8: ANTALYA | C8: 66984 | D8: 70532 | E8: 69977 | F8: =E8/$E$83 -> 0.041274309 | G8: =(E8-C8)/C8 -> 0.044682312 | H8: =E8-C8 -> 2993 | I8: =H8/$H$83 -> 0.043890779 | J8: =E8-D8 -> -555
A9: 8 | B9: ARTVİN | C9: 3181 | D9: 3422 | E9: 3365 | F9: =E9/$E$83 -> 0.0019847671 | G9: =(E9-C9)/C9 -> 0.057843445 | H9: =E9-C9 -> 184 | I9: =H9/$H$83 -> 0.0026982637 | J9: =E9-D9 -> -57
A10: 9 | B10: AYDIN | C10: 23910 | D10: 25610 | E10: 25139 | F10: =E10/$E$83 -> 0.014827656 | G10: =(E10-C10)/C10 -> 0.051401087 | H10: =E10-C10 -> 1229 | I10: =H10/$H$83 -> 0.018022642 | J10: =E10-D10 -> -471
A11: 10 | B11: BALIKESİR | C11: 25558 | D11: 27146 | E11: 26559 | F11: =E11/$E$83 -> 0.01566521 | G11: =(E11-C11)/C11 -> 0.039165819 | H11: =E11-C11 -> 1001 | I11: =H11/$H$83 -> 0.014679141 | J11: =E11-D11 -> -587
A12: 11 | B12: BİLECİK | C12: 4189 | D12: 4337 | E12: 4273 | F12: =E12/$E$83 -> 0.0025203299 | G12: =(E12-C12)/C12 -> 0.020052519 | H12: =E12-C12 -> 84 | I12: =H12/$H$83 -> 0.001231816 | J12: =E12-D12 -> -64
A13: 12 | B13: BİNGÖL | C13: 1662 | D13: 2039 | E13: 1972 | F13: =E13/$E$83 -> 0.0011631384 | G13: =(E13-C13)/C13 -> 0.18652226 | H13: =E13-C13 -> 310 | I13: =H13/$H$83 -> 0.0045459878 | J13: =E13-D13 -> -67
... A82: 81 | B82: DÜZCE | C82: 6509 | D82: 7069 | E82: 6986 | F82: =E82/$E$83 -> 0.0041205299 | G82: =(E82-C82)/C82 -> 0.073283146 | H82: =E82-C82 -> 477 | I82: =H82/$H$83 -> 0.0069949554 | J82: =E82-D82 -> -83
A83: TOPLAM | C83: 1627221 | D83: 1721293 | E83: 1695413 | F83: =E83/$E$83 -> 1 | G83: =(E83-C83)/C83 -> 0.04190703 | H83: =E83-C83 -> 68192 | I83: =H83/$H$83 -> 1 | J83: =E83-D83 -> -25880

Sheet 4a_Kadın_Sektör
A1: FAALİYET KODU | B1: FAALİYET GRUPLARI | C1: 41821 | D1: 42156 | E1: 42186 | F1: Sektörün Sigortalı Kadın İstihdamındaki Payı (Temmuz 2015) | G1: Çalışan Sayısında Değişim (Temmuz 2015 - Temmuz 2014) | H1: Çalışan Sayısındaki Fark (Temmuz 2015 - Temmuz 2014) | I1: Artışta Sektörün Payı (%) (Temmuz 2015) | J1: Çalışan Sayısındaki Fark (Temmuz 2015 - Haziran 2015)
A2: 1 | B2: BİTKİSEL VE HAYVANSAL ÜRETİM | C2: 28300 | D2: 32834 | E2: 34896 | F2: =E2/$E$90 -> 0.0094426442 | G2: =(E2-C2)/C2 -> 0.2330742 | H2: =E2-C2 -> 6596 | I2: =H2/$H$90 -> 0.021710938 | J2: =E2-D2 -> 2062
A3: 2 | B3: ORMANCILIK VE TOMRUKÇULUK | C3: 3629 | D3: 27263 | E3: 25534 | F3: =E3/$E$90 -> 0.0069093443 | G3: =(E3-C3)/C3 -> 6.0360981 | H3: =E3-C3 -> 21905 | I3: =H3/$H$90 -> 0.072100984 | J3: =E3-D3 -> -1729
A4: 3 | B4: BALIKÇILIK VE SU ÜRÜNLERİ YETİŞ. | C4: 1475 | D4: 1273 | E4: 1307 | F4: =E4/$E$90 -> 0.00035366621 | G4: =(E4-C4)/C4 -> -0.11389831 | H4: =E4-C4 -> -168 | I4: =H4/$H$90 -> -0.00055297719 | J4: =E4-D4 -> 34
A5: 5 | B5: KÖMÜR VE LİNYİT ÇIKARTILMASI | C5: 545 | D5: 433 | E5: 381 | F5: =E5/$E$90 -> 0.00010309627 | G5: =(E5-C5)/C5 -> -0.30091743 | H5: =E5-C5 -> -164 | I5: =H5/$H$90 -> -0.00053981107 | J5: =E5-D5 -> -52
A6: 6 | B6: HAM PETROL VE DOĞALGAZ ÇIKARIMI | C6: 79 | D6: 38 | E6: 66 | F6: =E6/$E$90 -> 1.7859196e-05 | G6: =(E6-C6)/C6 -> -0.16455696 | H6: =E6-C6 -> -13 | I6: =H6/$H$90 -> -4.2789902e-05 | J6: =E6-D6 -> 28
A7: 7 | B7: METAL CEVHERİ MADENCİLİĞİ | C7: 923 | D7: 920 | E7: 924 | F7: =E7/$E$90 -> 0.00025002875 | G7: =(E7-C7)/C7 -> 0.0010834236 | H7: =E7-C7 -> 1 | I7: =H7/$H$90 -> 3.2915309e-06 | J7: =E7-D7 -> 4
A8: 8 | B8: DİĞER MADENCİLİK VE TAŞ OCAKÇILIĞI | C8: 2698 | D8: 3143 | E8: 3258 | F8: =E8/$E$90 -> 0.00088159488 | G8: =(E8-C8)/C8 -> 0.20756116 | H8: =E8-C8 -> 560 | I8: =H8/$H$90 -> 0.0018432573 | J8: =E8-D8 -> 115
A9: 9 | B9: MADENCİLİĞİ DESTEKLEYİCİ HİZMET | C9: 1384 | D9: 976 | E9: 1150 | F9: =E9/$E$90 -> 0.00031118297 | G9: =(E9-C9)/C9 -> -0.16907514 | H9: =E9-C9 -> -234 | I9: =H9/$H$90 -> -0.00077021823 | J9: =E9-D9 -> 174
A10: 10 | B10: GIDA ÜRÜNLERİ İMALATI | C10: 117895 | D10: 123238 | E10: 124816 | F10: =E10/$E$90 -> 0.033774446 | G10: =(E10-C10)/C10 -> 0.05870478 | H10: =E10-C10 -> 6921 | I10: =H10/$H$90 -> 0.022780685 | J10: =E10-D10 -> 1578
A11: 11 | B11: İÇECEK İMALATI | C11: 2275 | D11: 2674 | E11: 2682 | F11: =E11/$E$90 -> 0.0007257328 | G11: =(E11-C11)/C11 -> 0.1789011 | H11: =E11-C11 -> 407 | I11: =H11/$H$90 -> 0.0013396531 | J11: =E11-D11 -> 8
A12: 12 | B12: TÜTÜN ÜRÜNLERİ İMALATI | C12: 574 | D12: 1155 | E12: 687 | F12: =E12/$E$90 -> 0.000185898 | G12: =(E12-C12)/C12 -> 0.19686411 | H12: =E12-C12 -> 113 | I12: =H12/$H$90 -> 0.00037194299 | J12: =E12-D12 -> -468
A13: 13 | B13: TEKSTİL ÜRÜNLERİ İMALATI | C13: 125020 | D13: 122227 | E13: 120391 | F13: =E13/$E$90 -> 0.032577069 | G13: =(E13-C13)/C13 -> -0.037026076 | H13: =E13-C13 -> -4629 | I13: =H13/$H$90 -> -0.015236496 | J13: =E13-D13 -> -1836
... A89: 99 | B89: ULUSLARARASI ÖRGÜT VE TEMS.FA. | C89: 1551 | D89: 1705 | E89: 1669 | F89: =E89/$E$90 -> 0.0004516212 | G89: =(E89-C89)/C89 -> 0.076079948 | H89: =E89-C89 -> 118 | I89: =H89/$H$90 -> 0.00038840065 | J89: =E89-D89 -> -36
A90: T O P L A M | C90: 3391765 | D90: 3769995 | E90: 3695575 | F90: =E90/$E$90 -> 1 | G90: =(E90-C90)/C90 -> 0.089572833 | H90: =E90-C90 -> 303810 | I90: =H90/$H$90 -> 1 | J90: =E90-D90 -> -74420

Sheet 4a_Kadın_İmalat_Sektör
A1: FAALİYET KODU | B1: FAALİYET GRUPLARI | C1: 41821 | D1: 42156 | E1: 42186 | F1: Sektörün Sigortalı Kadın İstihdamındaki Payı (Temmuz 2015) | G1: Çalışan Sayısında Değişim (Temmuz 2015 - Temmuz 2014) | H1: Çalışan Sayısındaki Fark (Temmuz 2015 - Temmuz 2014) | I1: Artışta Sektörün Payı (%) (Temmuz 2015) | J1: Çalışan Sayısındaki Fark (Temmuz 2015 - Haziran 2015)
A2: 10 | B2: GIDA ÜRÜNLERİ İMALATI | C2: 117895 | D2: 123238 | E2: 124816 | F2: =E2/$E$26 -> 0.14935861 | G2: =(E2-C2)/C2 -> 0.05870478 | H2: =E2-C2 -> 6921 | I2: =H2/$H$26 -> 0.27406645 | J2: =E2-D2 -> 1578
A3: 11 | B3: İÇECEK İMALATI | C3: 2275 | D3: 2674 | E3: 2682 | F3: =E3/$E$26 -> 0.0032093624 | G3: =(E3-C3)/C3 -> 0.1789011 | H3: =E3-C3 -> 407 | I3: =H3/$H$26 -> 0.016116897 | J3: =E3-D3 -> 8
A4: 12 | B4: TÜTÜN ÜRÜNLERİ İMALATI | C4: 574 | D4: 1155 | E4: 687 | F4: =E4/$E$26 -> 0.00082208501 | G4: =(E4-C4)/C4 -> 0.19686411 | H4: =E4-C4 -> 113 | I4: =H4/$H$26 -> 0.0044747159 | J4: =E4-D4 -> -468
A5: 13 | B5: TEKSTİL ÜRÜNLERİ İMALATI | C5: 125020 | D5: 122227 | E5: 120391 | F5: =E5/$E$26 -> 0.14406352 | G5: =(E5-C5)/C5 -> -0.037026076 | H5: =E5-C5 -> -4629 | I5: =H5/$H$26 -> -0.18330495 | J5: =E5-D5 -> -1836
A6: 14 | B6: GİYİM EŞYALARI İMALATI | C6: 238641 | D6: 240266 | E6: 235996 | F6: =E6/$E$26 -> 0.28239996 | G6: =(E6-C6)/C6 -> -0.011083594 | H6: =E6-C6 -> -2645 | I6: =H6/$H$26 -> -0.10474003 | J6: =E6-D6 -> -4270
A7: 15 | B7: DERİ VE İLGİLİ ÜRÜNLER İMALATI | C7: 12573 | D7: 12864 | E7: 12661 | F7: =E7/$E$26 -> 0.015150536 | G7: =(E7-C7)/C7 -> 0.0069991251 | H7: =E7-C7 -> 88 | I7: =H7/$H$26 -> 0.0034847345 | J7: =E7-D7 -> -203
A8: 16 | B8: AĞAÇ,AĞAÇ ÜRÜNLERİ VE MANTAR ÜR. | C8: 7252 | D8: 10331 | E8: 7909 | F8: =E8/$E$26 -> 0.009464149 | G8: =(E8-C8)/C8 -> 0.090595698 | H8: =E8-C8 -> 657 | I8: =H8/$H$26 -> 0.026016711 | J8: =E8-D8 -> -2422
A9: 17 | B9: KAĞIT VE KAĞIT ÜRÜNLERİ İMALATI | C9: 8898 | D9: 9424 | E9: 9143 | F9: =E9/$E$26 -> 0.010940791 | G9: =(E9-C9)/C9 -> 0.027534277 | H9: =E9-C9 -> 245 | I9: =H9/$H$26 -> 0.0097018176 | J9: =E9-D9 -> -281
A10: 18 | B10: KAYITLI MEDYANIN BASILMASI VE ÇOĞ. | C10: 15229 | D10: 14968 | E10: 14926 | F10: =E10/$E$26 -> 0.017860904 | G10: =(E10-C10)/C10 -> -0.019896251 | H10: =E10-C10 -> -303 | I10: =H10/$H$26 -> -0.011998574 | J10: =E10-D10 -> -42
A11: 19 | B11: KOK KÖMÜRÜ VE PETROL ÜRÜNLERİ İM. | C11: 956 | D11: 961 | E11: 971 | F11: =E11/$E$26 -> 0.001161928 | G11: =(E11-C11)/C11 -> 0.015690377 | H11: =E11-C11 -> 15 | I11: =H11/$H$26 -> 0.00059398883 | J11: =E11-D11 -> 10
A12: 20 | B12: KİMYASAL ÜRÜNLERİ İMALATI | C12: 16101 | D12: 16926 | E12: 16773 | F12: =E12/$E$26 -> 0.02007108 | G12: =(E12-C12)/C12 -> 0.041736538 | H12: =E12-C12 -> 672 | I12: =H12/$H$26 -> 0.0266107 | J12: =E12-D12 -> -153
A13: 21 | B13: ECZACILIK VE ECZ.İLİŞKİN MALZ.İMAL. | C13: 6559 | D13: 6899 | E13: 6956 | F13: =E13/$E$26 -> 0.0083237603 | G13: =(E13-C13)/C13 -> 0.060527519 | H13: =E13-C13 -> 397 | I13: =H13/$H$26 -> 0.015720904 | J13: =E13-D13 -> 57
... A25: 33 | B25: MAKİNE VE EKİPMAN.KURULUMU VE ONAR. | C25: 22313 | D25: 21975 | E25: 24044 | F25: =E25/$E$26 -> 0.028771779 | G25: =(E25-C25)/C25 -> 0.077578093 | H25: =E25-C25 -> 1731 | I25: =H25/$H$26 -> 0.068546311 | J25: =E25-D25 -> 2069
A26: İMALAT T O P L A M | C26: 810427 | D26: 840897 | E26: 835680 | F26: =E26/$E$26 -> 1 | G26: =(E26-C26)/C26 -> 0.031160117 | H26: =E26-C26 -> 25253 | I26: =H26/$H$26 -> 1 | J26: =E26-D26 -> -5217

Sheet 4a_Kadın_İl
A1: İL KODU | B1: İLLER | C1: 41821 | D1: 42156 | E1: 42186 | F1: İldeki Kadın İstihdamının Toplam İstihdama Oranı (Temmuz 2015) | G1: İlin Payı (Temmuz 2015) | H1: Kadın İstihdamındaki Değişim (Temmuz 2015 - Temmuz 2014) | I1: Kadın İstihdamındaki Fark (Temmuz 2015 - Temmuz 2014) | J1: Artışta İlin Payı (%) (Temmuz 2015) | K1: Kadın İstihdamındaki Fark (Temmuz 2015 - Haziran 2015)
A2: 1 | B2: ADANA | C2: 61802 | D2: 68875 | E2: 67603 | F2: =E2/'4a_İl'!E2 -> 0.2316504 | G2: =E2/$E$83 -> 0.018292958 | H2: =(E2-C2)/C2 -> 0.093864276 | I2: =E2-C2 -> 5801 | J2: =I2/$I$83 -> 0.019094171 | K2: =E2-D2 -> -1272
A3: 2 | B3: ADIYAMAN | C3: 6595 | D3: 7801 | E3: 6929 | F3: =E3/'4a_İl'!E3 -> 0.16732269 | G3: =E3/$E$83 -> 0.001874945 | H3: =(E3-C3)/C3 -> 0.050644428 | I3: =E3-C3 -> 334 | J3: =I3/$I$83 -> 0.0010993713 | K3: =E3-D3 -> -872
A4: 3 | B4: AFYONKARAHİSAR | C4: 16327 | D4: 16904 | E4: 18417 | F4: =E4/'4a_İl'!E4 -> 0.20086598 | G4: =E4/$E$83 -> 0.0049835276 | H4: =(E4-C4)/C4 -> 0.12800882 | I4: =E4-C4 -> 2090 | J4: =I4/$I$83 -> 0.0068792996 | K4: =E4-D4 -> 1513
A5: 4 | B5: AĞRI | C5: 1993 | D5: 2762 | E5: 2377 | F5: =E5/'4a_İl'!E5 -> 0.11276091 | G5: =E5/$E$83 -> 0.00064320167 | H5: =(E5-C5)/C5 -> 0.19267436 | I5: =E5-C5 -> 384 | J5: =I5/$I$83 -> 0.0012639479 | K5: =E5-D5 -> -385
A6: 5 | B6: AMASYA | C6: 8936 | D6: 10701 | E6: 10247 | F6: =E6/'4a_İl'!E6 -> 0.24452346 | G6: =E6/$E$83 -> 0.0027727755 | H6: =(E6-C6)/C6 -> 0.14670994 | I6: =E6-C6 -> 1311 | J6: =I6/$I$83 -> 0.004315197 | K6: =E6-D6 -> -454
A7: 6 | B7: ANKARA | C7: 297412 | D7: 356420 | E7: 348156 | F7: =E7/'4a_İl'!E7 -> 0.29454872 | G7: =E7/$E$83 -> 0.094208885 | H7: =(E7-C7)/C7 -> 0.17061854 | I7: =E7-C7 -> 50744 | J7: =I7/$I$83 -> 0.16702544 | K7: =E7-D7 -> -8264
A8: 7 | B8: ANTALYA | C8: 160790 | D8: 177120 | E8: 172953 | F8: =E8/'4a_İl'!E8 -> 0.29218044 | G8: =E8/$E$83 -> 0.046800024 | H8: =(E8-C8)/C8 -> 0.075645252 | I8: =E8-C8 -> 12163 | J8: =I8/$I$83 -> 0.04003489 | K8: =E8-D8 -> -4167
A9: 8 | B9: ARTVİN | C9: 4195 | D9: 4956 | E9: 4270 | F9: =E9/'4a_İl'!E9 -> 0.18331688 | G9: =E9/$E$83 -> 0.0011554359 | H9: =(E9-C9)/C9 -> 0.017878427 | I9: =E9-C9 -> 75 | J9: =I9/$I$83 -> 0.00024686482 | K9: =E9-D9 -> -686
A10: 9 | B10: AYDIN | C10: 41121 | D10: 44741 | E10: 46697 | F10: =E10/'4a_İl'!E10 -> 0.287974 | G10: =E10/$E$83 -> 0.012635923 | H10: =(E10-C10)/C10 -> 0.13559982 | I10: =E10-C10 -> 5576 | J10: =I10/$I$83 -> 0.018353576 | K10: =E10-D10 -> 1956
A11: 10 | B11: BALIKESİR | C11: 39005 | D11: 45360 | E11: 44786 | F11: =E11/'4a_İl'!E11 -> 0.26446447 | G11: =E11/$E$83 -> 0.012118818 | H11: =(E11-C11)/C11 -> 0.14821177 | I11: =E11-C11 -> 5781 | J11: =I11/$I$83 -> 0.01902834 | K11: =E11-D11 -> -574
A12: 11 | B12: BİLECİK | C12: 10104 | D12: 11461 | E12: 11230 | F12: =E12/'4a_İl'!E12 -> 0.2597673 | G12: =E12/$E$83 -> 0.0030387693 | H12: =(E12-C12)/C12 -> 0.11144101 | I12: =E12-C12 -> 1126 | J12: =I12/$I$83 -> 0.0037062638 | K12: =E12-D12 -> -231
A13: 12 | B13: BİNGÖL | C13: 2012 | D13: 4199 | E13: 3230 | F13: =E13/'4a_İl'!E13 -> 0.14252934 | G13: =E13/$E$83 -> 0.00087401825 | H13: =(E13-C13)/C13 -> 0.60536779 | I13: =E13-C13 -> 1218 | J13: =I13/$I$83 -> 0.0040090846 | K13: =E13-D13 -> -969
... A82: 81 | B82: DÜZCE | C82: 19794 | D82: 22619 | E82: 24033 | F82: =E82/'4a_İl'!E82 -> 0.31561322 | G82: =E82/$E$83 -> 0.0065031829 | H82: =(E82-C82)/C82 -> 0.2141558 | I82: =E82-C82 -> 4239 | J82: =I82/$I$83 -> 0.013952799 | K82: =E82-D82 -> 1414
A83: TOPLAM | C83: 3391765 | D83: 3769995 | E83: 3695575 | F83: =E83/'4a_İl'!E83 -> 0.2660357 | G83: =E83/$E$83 -> 1 | H83: =(E83-C83)/C83 -> 0.089572833 | I83: =E83-C83 -> 303810 | J83: =I83/$I$83 -> 1 | K83: =E83-D83 -> -74420

Sheet İşsizlikSigortası_Başvuru
A1: İLLER | B1: 41883 | C1: 42217 | D1: 42248 | E1: İlin Payı (Eylül 2015) | F1: Başvuru Sayısındaki Değişim (Eylül 2015 - Eylül 2014) | G1: Başvuru Sayısındaki Fark (Eylül 2015 - Eylül 2014) | H1: Geçen Aya Göre Değişim
A2: ADANA | B2: 2062 | C2: 2044 | D2: 1803 | E2: =D2/$D$83 -> 0.024559348 | F2: =(D2-B2)/B2 -> -0.12560621 | G2: =D2-B2 -> -259 | H2: =D2-C2 -> -241
A3: ADIYAMAN | B3: 218 | C3: 239 | D3: 244 | E3: =D3/$D$83 -> 0.0033236167 | F3: =(D3-B3)/B3 -> 0.11926606 | G3: =D3-B3 -> 26 | H3: =D3-C3 -> 5
A4: AFYONKARAHİSAR | B4: 326 | C4: 379 | D4: 393 | E4: =D4/$D$83 -> 0.0053532024 | F4: =(D4-B4)/B4 -> 0.20552147 | G4: =D4-B4 -> 67 | H4: =D4-C4 -> 14
A5: AĞRI | B5: 69 | C5: 92 | D5: 98 | E5: =D5/$D$83 -> 0.0013348953 | F5: =(D5-B5)/B5 -> 0.42028986 | G5: =D5-B5 -> 29 | H5: =D5-C5 -> 6
A6: AKSARAY | B6: 131 | C6: 149 | D6: 160 | E6: =D6/$D$83 -> 0.0021794208 | F6: =(D6-B6)/B6 -> 0.22137405 | G6: =D6-B6 -> 29 | H6: =D6-C6 -> 11
A7: AMASYA | B7: 188 | C7: 188 | D7: 160 | E7: =D7/$D$83 -> 0.0021794208 | F7: =(D7-B7)/B7 -> -0.14893617 | G7: =D7-B7 -> -28 | H7: =D7-C7 -> -28
A8: ANKARA | B8: 5576 | C8: 5876 | D8: 5522 | E8: =D8/$D$83 -> 0.075217261 | F8: =(D8-B8)/B8 -> -0.0096843615 | G8: =D8-B8 -> -54 | H8: =D8-C8 -> -354
A9: ANTALYA | B9: 2825 | C9: 2789 | D9: 3378 | E9: =D9/$D$83 -> 0.046013022 | F9: =(D9-B9)/B9 -> 0.19575221 | G9: =D9-B9 -> 553 | H9: =D9-C9 -> 589
A10: ARDAHAN | B10: 22 | C10: 34 | D10: 46 | E10: =D10/$D$83 -> 0.00062658349 | F10: =(D10-B10)/B10 -> 1.0909091 | G10: =D10-B10 -> 24 | H10: =D10-C10 -> 12
A11: ARTVİN | B11: 162 | C11: 267 | D11: 153 | E11: =D11/$D$83 -> 0.0020840712 | F11: =(D11-B11)/B11 -> -0.055555556 | G11: =D11-B11 -> -9 | H11: =D11-C11 -> -114
A12: AYDIN | B12: 771 | C12: 712 | D12: 755 | E12: =D12/$D$83 -> 0.010284142 | F12: =(D12-B12)/B12 -> -0.02075227 | G12: =D12-B12 -> -16 | H12: =D12-C12 -> 43
A13: BALIKESİR | B13: 807 | C13: 708 | D13: 714 | E13: =D13/$D$83 -> 0.0097256654 | F13: =(D13-B13)/B13 -> -0.11524164 | G13: =D13-B13 -> -93 | H13: =D13-C13 -> 6
... A83: TOPLAM | B83: 73046 | C83: 78282 | D83: 73414 | E83: =D83/$D$83 -> 1 | F83: =(D83-B83)/B83 -> 0.0050379213 | G83: =D83-B83 -> 368 | H83: =D83-C83 -> -4868

Sheet İşsizlikSigortası_Ödeme
A1: İLLER | B1: 41821 | C1: 42156 | D1: 42186 | E1: İlin Payı (Eylül 2015) | F1: Ödeme Yapılan Kişi Sayısındaki Değişim (Eylül 2015 - Eylül 2014) | G1: Ödeme Yapılan Kişi Sayısındaki Fark (Eylül 2015 - Eylül 2014) | H1: Geçen Aya Göre Değişim
A2: ADANA | B2: 1063 | C2: 886 | D2: 881 | E2: =D2/$D$83 -> 0.028034112 | F2: =(D2-B2)/B2 -> -0.17121355 | G2: =D2-B2 -> -182 | H2: =D2-C2 -> -5
A3: ADIYAMAN | B3: 121 | C3: 98 | D3: 100 | E3: =D3/$D$83 -> 0.0031820785 | F3: =(D3-B3)/B3 -> -0.17355372 | G3: =D3-B3 -> -21 | H3: =D3-C3 -> 2
A4: AFYONKARAHİSAR | B4: 228 | C4: 154 | D4: 177 | E4: =D4/$D$83 -> 0.005632279 | F4: =(D4-B4)/B4 -> -0.22368421 | G4: =D4-B4 -> -51 | H4: =D4-C4 -> 23
A5: AĞRI | B5: 37 | C5: 27 | D5: 23 | E5: =D5/$D$83 -> 0.00073187806 | F5: =(D5-B5)/B5 -> -0.37837838 | G5: =D5-B5 -> -14 | H5: =D5-C5 -> -4
A6: AKSARAY | B6: 73 | C6: 73 | D6: 80 | E6: =D6/$D$83 -> 0.0025456628 | F6: =(D6-B6)/B6 -> 0.095890411 | G6: =D6-B6 -> 7 | H6: =D6-C6 -> 7
A7: AMASYA | B7: 67 | C7: 69 | D7: 64 | E7: =D7/$D$83 -> 0.0020365303 | F7: =(D7-B7)/B7 -> -0.044776119 | G7: =D7-B7 -> -3 | H7: =D7-C7 -> -5
A8: ANKARA | B8: 2512 | C8: 2495 | D8: 2410 | E8: =D8/$D$83 -> 0.076688093 | F8: =(D8-B8)/B8 -> -0.040605096 | G8: =D8-B8 -> -102 | H8: =D8-C8 -> -85
A9: ANTALYA | B9: 1105 | C9: 952 | D9: 1210 | E9: =D9/$D$83 -> 0.03850315 | F9: =(D9-B9)/B9 -> 0.095022624 | G9: =D9-B9 -> 105 | H9: =D9-C9 -> 258
A10: ARDAHAN | B10: 8 | C10: 13 | D10: 17 | E10: =D10/$D$83 -> 0.00054095335 | F10: =(D10-B10)/B10 -> 1.125 | G10: =D10-B10 -> 9 | H10: =D10-C10 -> 4
A11: ARTVİN | B11: 66 | C11: 154 | D11: 65 | E11: =D11/$D$83 -> 0.002068351 | F11: =(D11-B11)/B11 -> -0.015151515 | G11: =D11-B11 -> -1 | H11: =D11-C11 -> -89
A12: AYDIN | B12: 311 | C12: 313 | D12: 342 | E12: =D12/$D$83 -> 0.010882709 | F12: =(D12-B12)/B12 -> 0.099678457 | G12: =D12-B12 -> 31 | H12: =D12-C12 -> 29
A13: BALIKESİR | B13: 450 | C13: 341 | D13: 299 | E13: =D13/$D$83 -> 0.0095144148 | F13: =(D13-B13)/B13 -> -0.33555556 | G13: =D13-B13 -> -151 | H13: =D13-C13 -> -42
... A83: TOPLAM | B83: 35026 | C83: 33476 | D83: 31426 | E83: =D83/$D$83 -> 1 | F83: =(D83-B83)/B83 -> -0.10278079 | G83: =D83-B83 -> -3600 | H83: =D83-C83 -> -2050

Sheet Ortalama_Günlük_Kazanç_Sektör
A1: FAALİYET GRUPLARI | B1: 41821 | C1: 42156 | D1: 42186 | E1: Ortalama Günlük Kazanç Değişim (Temmuz 2015 - Temmuz 2014) | F1: Ortalama Günlük Kazanç Fark (TL) (Temmuz 2015 - Temmuz 2014) | G1: Ortalama Günlük Kazanç Fark (TL) (Temmuz 2015 - Haziran 2015)
A2: BİTKİSEL VE HAYVANSAL ÜRETİM | B2: 59.357035 | C2: 66.741244 | D2: 64.765436 | E2: =(D2-B2)/B2 -> 0.09111643 | F2: =D2-B2 -> 5.4084011 | G2: =D2-C2 -> -1.9758081
A3: ORMANCILIK VE TOMRUKÇULUK | B3: 103.80997 | C3: 65.30596 | D3: 63.25725 | E3: =(D3-B3)/B3 -> -0.39064379 | F3: =D3-B3 -> -40.552721 | G3: =D3-C3 -> -2.0487097
A4: BALIKÇILIK VE SU ÜRÜNLERİ YETİŞ. | B4: 56.755434 | C4: 62.924116 | D4: 66.289048 | E4: =(D4-B4)/B4 -> 0.16797713 | F4: =D4-B4 -> 9.5336148 | G4: =D4-C4 -> 3.3649325
A5: KÖMÜR VE LİNYİT ÇIKARTILMASI | B5: 80.234028 | C5: 92.43567 | D5: 94.593743 | E5: =(D5-B5)/B5 -> 0.17897287 | F5: =D5-B5 -> 14.359714 | G5: =D5-C5 -> 2.158073
A6: HAM PETROL VE DOĞALGAZ ÇIKARIMI | B6: 175.77324 | C6: 118.07934 | D6: 178.90227 | E6: =(D6-B6)/B6 -> 0.017801508 | F6: =D6-B6 -> 3.1290287 | G6: =D6-C6 -> 60.822926
A7: METAL CEVHERİ MADENCİLİĞİ | B7: 80.979891 | C7: 88.337713 | D7: 93.042936 | E7: =(D7-B7)/B7 -> 0.14896347 | F7: =D7-B7 -> 12.063046 | G7: =D7-C7 -> 4.7052239
A8: DİĞER MADENCİLİK VE TAŞ OCAK. | B8: 60.877476 | C8: 65.745316 | D8: 69.035506 | E8: =(D8-B8)/B8 -> 0.13400737 | F8: =D8-B8 -> 8.1580301 | G8: =D8-C8 -> 3.2901903
A9: MADENCİLİĞİ DESTEKLEYİCİ HİZMET | B9: 83.396807 | C9: 75.095219 | D9: 80.273552 | E9: =(D9-B9)/B9 -> -0.037450534 | F9: =D9-B9 -> -3.1232549 | G9: =D9-C9 -> 5.1783329
A10: GIDA ÜRÜNLERİ İMALATI | B10: 57.409399 | C10: 62.761736 | D10: 64.076888 | E10: =(D10-B10)/B10 -> 0.11613933 | F10: =D10-B10 -> 6.6674889 | G10: =D10-C10 -> 1.3151519
A11: İÇECEK İMALATI | B11: 84.65431 | C11: 96.503333 | D11: 89.250035 | E11: =(D11-B11)/B11 -> 0.054288133 | F11: =D11-B11 -> 4.5957245 | G11: =D11-C11 -> -7.253298
A12: TÜTÜN ÜRÜNLERİ İMALATI | B12: 150.66853 | C12: 164.18347 | D12: 162.03559 | E12: =(D12-B12)/B12 -> 0.075444157 | F12: =D12-B12 -> 11.36706 | G12: =D12-C12 -> -2.1478773
A13: TEKSTİL ÜRÜNLERİ İMALATI | B13: 52.807912 | C13: 57.818721 | D13: 60.612155 | E13: =(D13-B13)/B13 -> 0.1477855 | F13: =D13-B13 -> 7.8042435 | G13: =D13-C13 -> 2.7934342
... A90: TOPLAM | B90: 59.015228 | C90: 66.772649 | D90: 69.164359 | E90: =(D90-B90)/B90 -> 0.17197478 | F90: =D90-B90 -> 10.149131 | G90: =D90-C90 -> 2.3917103

Sheet Ortalama_Günlük_Kazanç_İl
A1: İLLER | B1: 41821 | C1: 42156 | D1: 42186 | E1: Erkek Ortalama Günlük Kazanç (TL) (Temmuz 2015) | F1: Kadın Ortalama Günlük Kazanç (TL) (Temmuz 2015) | G1: Ortalama Günlük Kazanç Değişim (Temmuz 2015 - Temmuz 2014) | H1: Ortalama Günlük Kazanç Fark (TL) (Temmuz 2015 - Temmuz 2014) | I1: Ortalama Günlük Kazanç Fark (TL) (Temmuz 2015 - Haziran 2015)
A2: ADANA | B2: 57.775377 | C2: 61.607609 | D2: 64.257178 | E2: 65.960608 | F2: 58.541285 | G2: =(D2-B2)/B2 -> 0.11218968 | H2: =(D2-B2) -> 6.4818011 | I2: =(D2-C2) -> 2.6495691
A3: ADIYAMAN | B3: 56.176225 | C3: 52.397878 | D3: 55.674767 | E3: 56.141356 | F3: 53.270645 | G3: =(D3-B3)/B3 -> -0.0089265189 | H3: =(D3-B3) -> -0.50145813 | I3: =(D3-C3) -> 3.2768882
A4: AFYONKARAHİSAR | B4: 50.908399 | C4: 54.618714 | D4: 55.991203 | E4: 56.903031 | F4: 52.150598 | G4: =(D4-B4)/B4 -> 0.099842158 | H4: =(D4-B4) -> 5.0828044 | I4: =(D4-C4) -> 1.3724888
A5: AĞRI | B5: 52.059858 | C5: 54.8396 | D5: 56.090738 | E5: 56.492411 | F5: 53.023873 | G5: =(D5-B5)/B5 -> 0.077427786 | H5: =(D5-B5) -> 4.0308795 | I5: =(D5-C5) -> 1.2511374
A6: AMASYA | B6: 51.160393 | C6: 54.180215 | D6: 55.689233 | E6: 57.76325 | F6: 48.941164 | G6: =(D6-B6)/B6 -> 0.088522393 | H6: =(D6-B6) -> 4.5288404 | I6: =(D6-C6) -> 1.509018
A7: ANKARA | B7: 67.259628 | C7: 70.559968 | D7: 72.802984 | E7: 75.058311 | F7: 67.373714 | G7: =(D7-B7)/B7 -> 0.082417288 | H7: =(D7-B7) -> 5.5433561 | I7: =(D7-C7) -> 2.2430161
A8: ANTALYA | B8: 59.152528 | C8: 61.286855 | D8: 65.51248 | E8: 67.160476 | F8: 61.555471 | G8: =(D8-B8)/B8 -> 0.10751784 | H8: =(D8-B8) -> 6.3599523 | I8: =(D8-C8) -> 4.2256253
A9: ARTVİN | B9: 64.698844 | C9: 67.643969 | D9: 67.31318 | E9: 70.287701 | F9: 53.822755 | G9: =(D9-B9)/B9 -> 0.040407779 | H9: =(D9-B9) -> 2.6143366 | I9: =(D9-C9) -> -0.33078846
A10: AYDIN | B10: 52.07162 | C10: 55.829426 | D10: 57.930514 | E10: 59.505093 | F10: 53.974034 | G10: =(D10-B10)/B10 -> 0.11251607 | H10: =(D10-B10) -> 5.8588939 | I10: =(D10-C10) -> 2.1010878
A11: BALIKESİR | B11: 54.920469 | C11: 58.047887 | D11: 61.408052 | E11: 63.950926 | F11: 54.171483 | G11: =(D11-B11)/B11 -> 0.11812687 | H11: =(D11-B11) -> 6.4875831 | I11: =(D11-C11) -> 3.3601656
A12: BİLECİK | B12: 62.483736 | C12: 69.744727 | D12: 69.124778 | E12: 74.016902 | F12: 54.770437 | G12: =(D12-B12)/B12 -> 0.10628433 | H12: =(D12-B12) -> 6.6410419 | I12: =(D12-C12) -> -0.61994852
A13: BİNGÖL | B13: 54.236238 | C13: 57.270278 | D13: 58.839427 | E13: 60.357358 | F13: 49.721467 | G13: =(D13-B13)/B13 -> 0.084872946 | H13: =(D13-B13) -> 4.6031892 | I13: =(D13-C13) -> 1.569149
... A83: TOPLAM | B83: 59.015228 | C83: 66.772649 | D83: 69.164359 | E83: 70.539876 | F83: 65.337711 | G83: =(D83-B83)/B83 -> 0.17197478 | H83: =(D83-B83) -> 10.149131 | I83: =(D83-C83) -> 2.3917103
